BEGIN:VCALENDAR
VERSION:2.0
PRODID:-//NADI Merbau Pulas - ECPv6.15.12.2//NONSGML v1.0//EN
CALSCALE:GREGORIAN
METHOD:PUBLISH
X-WR-CALNAME:NADI Merbau Pulas
X-ORIGINAL-URL:https://merbaupulas.nadi.my
X-WR-CALDESC:Events for NADI Merbau Pulas
REFRESH-INTERVAL;VALUE=DURATION:PT1H
X-Robots-Tag:noindex
X-PUBLISHED-TTL:PT1H
BEGIN:VTIMEZONE
TZID:UTC
BEGIN:STANDARD
TZOFFSETFROM:+0000
TZOFFSETTO:+0000
TZNAME:UTC
DTSTART:20220101T000000
END:STANDARD
END:VTIMEZONE
BEGIN:VEVENT
DTSTART;TZID=UTC:20231118T103000
DTEND;TZID=UTC:20231118T123000
DTSTAMP:20260425T053450
CREATED:20231104T193401Z
LAST-MODIFIED:20231104T193401Z
UID:11401-1700303400-1700310600@merbaupulas.nadi.my
SUMMARY:Kelas E-Learning
DESCRIPTION:
URL:https://merbaupulas.nadi.my/event/kelas-e-learning-14/
CATEGORIES:DEFAULT
END:VEVENT
BEGIN:VEVENT
DTSTART;TZID=UTC:20231118T143000
DTEND;TZID=UTC:20231118T163000
DTSTAMP:20260425T053450
CREATED:20231104T192902Z
LAST-MODIFIED:20231104T192902Z
UID:11395-1700317800-1700325000@merbaupulas.nadi.my
SUMMARY:Klik Dengan Bijak
DESCRIPTION:
URL:https://merbaupulas.nadi.my/event/klik-dengan-bijak-2/
CATEGORIES:DEFAULT
END:VEVENT
END:VCALENDAR