BEGIN:VCALENDAR
VERSION:2.0
PRODID:-//NADI Merbau Pulas - ECPv6.15.12.2//NONSGML v1.0//EN
CALSCALE:GREGORIAN
METHOD:PUBLISH
X-WR-CALNAME:NADI Merbau Pulas
X-ORIGINAL-URL:https://merbaupulas.nadi.my
X-WR-CALDESC:Events for NADI Merbau Pulas
REFRESH-INTERVAL;VALUE=DURATION:PT1H
X-Robots-Tag:noindex
X-PUBLISHED-TTL:PT1H
BEGIN:VTIMEZONE
TZID:UTC
BEGIN:STANDARD
TZOFFSETFROM:+0000
TZOFFSETTO:+0000
TZNAME:UTC
DTSTART:20220101T000000
END:STANDARD
END:VTIMEZONE
BEGIN:VEVENT
DTSTART;TZID=UTC:20231124T103000
DTEND;TZID=UTC:20231124T123000
DTSTAMP:20260425T121017
CREATED:20231104T193007Z
LAST-MODIFIED:20231104T193007Z
UID:11396-1700821800-1700829000@merbaupulas.nadi.my
SUMMARY:Science Magnetic Concept
DESCRIPTION:
URL:https://merbaupulas.nadi.my/event/science-magnetic-concept/
CATEGORIES:DEFAULT
END:VEVENT
BEGIN:VEVENT
DTSTART;TZID=UTC:20231124T143000
DTEND;TZID=UTC:20231124T163000
DTSTAMP:20260425T121017
CREATED:20231104T193046Z
LAST-MODIFIED:20231104T193046Z
UID:11397-1700836200-1700843400@merbaupulas.nadi.my
SUMMARY:Walking Water
DESCRIPTION:
URL:https://merbaupulas.nadi.my/event/walking-water/
CATEGORIES:DEFAULT
END:VEVENT
END:VCALENDAR