BEGIN:VCALENDAR
VERSION:2.0
PRODID:-//NADI Merbau Pulas - ECPv6.15.12.2//NONSGML v1.0//EN
CALSCALE:GREGORIAN
METHOD:PUBLISH
X-WR-CALNAME:NADI Merbau Pulas
X-ORIGINAL-URL:https://merbaupulas.nadi.my
X-WR-CALDESC:Events for NADI Merbau Pulas
REFRESH-INTERVAL;VALUE=DURATION:PT1H
X-Robots-Tag:noindex
X-PUBLISHED-TTL:PT1H
BEGIN:VTIMEZONE
TZID:UTC
BEGIN:STANDARD
TZOFFSETFROM:+0000
TZOFFSETTO:+0000
TZNAME:UTC
DTSTART:20220101T000000
END:STANDARD
END:VTIMEZONE
BEGIN:VEVENT
DTSTART;TZID=UTC:20231209T103000
DTEND;TZID=UTC:20231209T123000
DTSTAMP:20260425T191359
CREATED:20231203T004426Z
LAST-MODIFIED:20231203T004426Z
UID:11406-1702117800-1702125000@merbaupulas.nadi.my
SUMMARY:(PEDi) Kelas Komputer - Hasilkan Gambar Passport
DESCRIPTION:
URL:https://merbaupulas.nadi.my/event/pedi-kelas-komputer-hasilkan-gambar-passport/
CATEGORIES:DEFAULT
END:VEVENT
END:VCALENDAR