BEGIN:VCALENDAR
VERSION:2.0
PRODID:-//NADI Merbau Pulas - ECPv6.15.12.2//NONSGML v1.0//EN
CALSCALE:GREGORIAN
METHOD:PUBLISH
X-WR-CALNAME:NADI Merbau Pulas
X-ORIGINAL-URL:https://merbaupulas.nadi.my
X-WR-CALDESC:Events for NADI Merbau Pulas
REFRESH-INTERVAL;VALUE=DURATION:PT1H
X-Robots-Tag:noindex
X-PUBLISHED-TTL:PT1H
BEGIN:VTIMEZONE
TZID:UTC
BEGIN:STANDARD
TZOFFSETFROM:+0000
TZOFFSETTO:+0000
TZNAME:UTC
DTSTART:20220101T000000
END:STANDARD
END:VTIMEZONE
BEGIN:VEVENT
DTSTART;TZID=UTC:20231215T093000
DTEND;TZID=UTC:20231215T123000
DTSTAMP:20260425T120957
CREATED:20231203T004628Z
LAST-MODIFIED:20231203T004628Z
UID:11409-1702632600-1702643400@merbaupulas.nadi.my
SUMMARY:(PEDi) Kursus Latihan Pengendali Makanan
DESCRIPTION:
URL:https://merbaupulas.nadi.my/event/pedi-kursus-latihan-pengendali-makanan/
CATEGORIES:DEFAULT
END:VEVENT
BEGIN:VEVENT
DTSTART;TZID=UTC:20231215T143000
DTEND;TZID=UTC:20231215T163000
DTSTAMP:20260425T120957
CREATED:20231203T004718Z
LAST-MODIFIED:20231203T004718Z
UID:11410-1702650600-1702657800@merbaupulas.nadi.my
SUMMARY:(PEDi) STEM - Magnet
DESCRIPTION:
URL:https://merbaupulas.nadi.my/event/pedi-stem-magnet/
CATEGORIES:DEFAULT
END:VEVENT
END:VCALENDAR