BEGIN:VCALENDAR
VERSION:2.0
PRODID:-//NADI Merbau Pulas - ECPv6.15.12.2//NONSGML v1.0//EN
CALSCALE:GREGORIAN
METHOD:PUBLISH
X-WR-CALNAME:NADI Merbau Pulas
X-ORIGINAL-URL:https://merbaupulas.nadi.my
X-WR-CALDESC:Events for NADI Merbau Pulas
REFRESH-INTERVAL;VALUE=DURATION:PT1H
X-Robots-Tag:noindex
X-PUBLISHED-TTL:PT1H
BEGIN:VTIMEZONE
TZID:UTC
BEGIN:STANDARD
TZOFFSETFROM:+0000
TZOFFSETTO:+0000
TZNAME:UTC
DTSTART:20220101T000000
END:STANDARD
END:VTIMEZONE
BEGIN:VEVENT
DTSTART;TZID=UTC:20231216T103000
DTEND;TZID=UTC:20231216T123000
DTSTAMP:20260424T053734
CREATED:20231203T005219Z
LAST-MODIFIED:20231203T005219Z
UID:11417-1702722600-1702729800@merbaupulas.nadi.my
SUMMARY:(PEDi) Kelas E-Learning
DESCRIPTION:
URL:https://merbaupulas.nadi.my/event/pedi-kelas-e-learning-2/
CATEGORIES:DEFAULT
END:VEVENT
BEGIN:VEVENT
DTSTART;TZID=UTC:20231216T143000
DTEND;TZID=UTC:20231216T153000
DTSTAMP:20260424T053734
CREATED:20231203T004956Z
LAST-MODIFIED:20231203T004956Z
UID:11414-1702737000-1702740600@merbaupulas.nadi.my
SUMMARY:(PEDi) Klik Dengan Bijak
DESCRIPTION:
URL:https://merbaupulas.nadi.my/event/pedi-klik-dengan-bijak-5/
CATEGORIES:DEFAULT
END:VEVENT
END:VCALENDAR