BEGIN:VCALENDAR
VERSION:2.0
PRODID:-//NADI Merbau Pulas - ECPv6.15.12.2//NONSGML v1.0//EN
CALSCALE:GREGORIAN
METHOD:PUBLISH
X-WR-CALNAME:NADI Merbau Pulas
X-ORIGINAL-URL:https://merbaupulas.nadi.my
X-WR-CALDESC:Events for NADI Merbau Pulas
REFRESH-INTERVAL;VALUE=DURATION:PT1H
X-Robots-Tag:noindex
X-PUBLISHED-TTL:PT1H
BEGIN:VTIMEZONE
TZID:UTC
BEGIN:STANDARD
TZOFFSETFROM:+0000
TZOFFSETTO:+0000
TZNAME:UTC
DTSTART:20230101T000000
END:STANDARD
END:VTIMEZONE
BEGIN:VEVENT
DTSTART;TZID=UTC:20240405T103000
DTEND;TZID=UTC:20240405T123000
DTSTAMP:20260418T235451
CREATED:20240414T234049Z
LAST-MODIFIED:20240414T234049Z
UID:11460-1712313000-1712320200@merbaupulas.nadi.my
SUMMARY:(NADI) Kelas CANVA - DIY Sampul Raya
DESCRIPTION:
URL:https://merbaupulas.nadi.my/event/nadi-kelas-canva-diy-sampul-raya/
CATEGORIES:DEFAULT
END:VEVENT
BEGIN:VEVENT
DTSTART;TZID=UTC:20240405T170000
DTEND;TZID=UTC:20240405T203000
DTSTAMP:20260418T235451
CREATED:20240414T234359Z
LAST-MODIFIED:20240414T234359Z
UID:11464-1712336400-1712349000@merbaupulas.nadi.my
SUMMARY:(NADI) KDB - Program Klik dengan Bijak dan Majlis Berbuka Puasa bersama Pertubuhan Rumah Kebajikan Anak Yatim / Miskin Umu Sabariah dengan Kerjasama MCMC Kedah dan NADI Kluster Baling
DESCRIPTION:
URL:https://merbaupulas.nadi.my/event/nadi-kdb-program-klik-dengan-bijak-dan-majlis-berbuka-puasa-bersama-pertubuhan-rumah-kebajikan-anak-yatim-miskin-umu-sabariah-dengan-kerjasama-mcmc-kedah-dan-nadi-kluster-baling/
CATEGORIES:DEFAULT
END:VEVENT
END:VCALENDAR