BEGIN:VCALENDAR
VERSION:2.0
PRODID:-//NADI Merbau Pulas - ECPv6.15.12.2//NONSGML v1.0//EN
CALSCALE:GREGORIAN
METHOD:PUBLISH
X-WR-CALNAME:NADI Merbau Pulas
X-ORIGINAL-URL:https://merbaupulas.nadi.my
X-WR-CALDESC:Events for NADI Merbau Pulas
REFRESH-INTERVAL;VALUE=DURATION:PT1H
X-Robots-Tag:noindex
X-PUBLISHED-TTL:PT1H
BEGIN:VTIMEZONE
TZID:UTC
BEGIN:STANDARD
TZOFFSETFROM:+0000
TZOFFSETTO:+0000
TZNAME:UTC
DTSTART:20230101T000000
END:STANDARD
END:VTIMEZONE
BEGIN:VEVENT
DTSTART;TZID=UTC:20240419T150000
DTEND;TZID=UTC:20240419T170000
DTSTAMP:20260419T015639
CREATED:20240414T234450Z
LAST-MODIFIED:20240414T234450Z
UID:11465-1713538800-1713546000@merbaupulas.nadi.my
SUMMARY:(NADI) ICT - Kelas Asas Microsoft Word
DESCRIPTION:
URL:https://merbaupulas.nadi.my/event/nadi-ict-kelas-asas-microsoft-word/
CATEGORIES:DEFAULT
END:VEVENT
END:VCALENDAR