BEGIN:VCALENDAR
VERSION:2.0
PRODID:-//NADI Merbau Pulas - ECPv6.15.12.2//NONSGML v1.0//EN
CALSCALE:GREGORIAN
METHOD:PUBLISH
X-WR-CALNAME:NADI Merbau Pulas
X-ORIGINAL-URL:https://merbaupulas.nadi.my
X-WR-CALDESC:Events for NADI Merbau Pulas
REFRESH-INTERVAL;VALUE=DURATION:PT1H
X-Robots-Tag:noindex
X-PUBLISHED-TTL:PT1H
BEGIN:VTIMEZONE
TZID:UTC
BEGIN:STANDARD
TZOFFSETFROM:+0000
TZOFFSETTO:+0000
TZNAME:UTC
DTSTART:20230101T000000
END:STANDARD
END:VTIMEZONE
BEGIN:VEVENT
DTSTART;TZID=UTC:20240420T103000
DTEND;TZID=UTC:20240420T123000
DTSTAMP:20260419T191258
CREATED:20240414T235023Z
LAST-MODIFIED:20240414T235023Z
UID:11472-1713609000-1713616200@merbaupulas.nadi.my
SUMMARY:(NADI) E-Learning - Kelas E-Learning (Tahap 1)
DESCRIPTION:
URL:https://merbaupulas.nadi.my/event/nadi-e-learning-kelas-e-learning-tahap-1/
CATEGORIES:DEFAULT
END:VEVENT
BEGIN:VEVENT
DTSTART;TZID=UTC:20240420T150000
DTEND;TZID=UTC:20240420T170000
DTSTAMP:20260419T191258
CREATED:20240414T235101Z
LAST-MODIFIED:20240414T235101Z
UID:11473-1713625200-1713632400@merbaupulas.nadi.my
SUMMARY:(NADI) Taklimat KDB
DESCRIPTION:
URL:https://merbaupulas.nadi.my/event/nadi-taklimat-kdb/
CATEGORIES:DEFAULT
END:VEVENT
END:VCALENDAR