BEGIN:VCALENDAR
VERSION:2.0
PRODID:-//NADI Merbau Pulas - ECPv6.15.12.2//NONSGML v1.0//EN
CALSCALE:GREGORIAN
METHOD:PUBLISH
X-WR-CALNAME:NADI Merbau Pulas
X-ORIGINAL-URL:https://merbaupulas.nadi.my
X-WR-CALDESC:Events for NADI Merbau Pulas
REFRESH-INTERVAL;VALUE=DURATION:PT1H
X-Robots-Tag:noindex
X-PUBLISHED-TTL:PT1H
BEGIN:VTIMEZONE
TZID:UTC
BEGIN:STANDARD
TZOFFSETFROM:+0000
TZOFFSETTO:+0000
TZNAME:UTC
DTSTART:20230101T000000
END:STANDARD
END:VTIMEZONE
BEGIN:VEVENT
DTSTART;TZID=UTC:20240516T103000
DTEND;TZID=UTC:20240516T123000
DTSTAMP:20260423T194635
CREATED:20240510T022032Z
LAST-MODIFIED:20240510T022032Z
UID:11481-1715855400-1715862600@merbaupulas.nadi.my
SUMMARY:Pengenalan Affiliate Shopee
DESCRIPTION:
URL:https://merbaupulas.nadi.my/event/pengenalan-affiliate-shopee/
LOCATION:NADI MERBAU PULAS\, NADI MERBAU PULAS
CATEGORIES:DEFAULT
END:VEVENT
BEGIN:VEVENT
DTSTART;TZID=UTC:20240516T103000
DTEND;TZID=UTC:20240516T123000
DTSTAMP:20260423T194635
CREATED:20240510T022032Z
LAST-MODIFIED:20240510T022032Z
UID:11490-1715855400-1715862600@merbaupulas.nadi.my
SUMMARY:Pengenalan Affiliate Shopee
DESCRIPTION:
URL:https://merbaupulas.nadi.my/event/pengenalan-affiliate-shopee-2/
LOCATION:NADI MERBAU PULAS\, NADI MERBAU PULAS
CATEGORIES:DEFAULT
END:VEVENT
BEGIN:VEVENT
DTSTART;TZID=UTC:20240516T150000
DTEND;TZID=UTC:20240516T170000
DTSTAMP:20260423T194635
CREATED:20240510T024245Z
LAST-MODIFIED:20240510T024245Z
UID:11482-1715871600-1715878800@merbaupulas.nadi.my
SUMMARY:Kelas Resume
DESCRIPTION:
URL:https://merbaupulas.nadi.my/event/kelas-resume-3/
LOCATION:NADI MERBAU PULAS\, NADI MERBAU PULAS
CATEGORIES:DEFAULT
END:VEVENT
BEGIN:VEVENT
DTSTART;TZID=UTC:20240516T150000
DTEND;TZID=UTC:20240516T170000
DTSTAMP:20260423T194635
CREATED:20240510T024245Z
LAST-MODIFIED:20240510T024245Z
UID:11491-1715871600-1715878800@merbaupulas.nadi.my
SUMMARY:Kelas Resume
DESCRIPTION:
URL:https://merbaupulas.nadi.my/event/kelas-resume-4/
LOCATION:NADI MERBAU PULAS\, NADI MERBAU PULAS
CATEGORIES:DEFAULT
END:VEVENT
END:VCALENDAR