BEGIN:VCALENDAR
VERSION:2.0
PRODID:-//NADI Merbau Pulas - ECPv6.15.12.2//NONSGML v1.0//EN
CALSCALE:GREGORIAN
METHOD:PUBLISH
X-WR-CALNAME:NADI Merbau Pulas
X-ORIGINAL-URL:https://merbaupulas.nadi.my
X-WR-CALDESC:Events for NADI Merbau Pulas
REFRESH-INTERVAL;VALUE=DURATION:PT1H
X-Robots-Tag:noindex
X-PUBLISHED-TTL:PT1H
BEGIN:VTIMEZONE
TZID:UTC
BEGIN:STANDARD
TZOFFSETFROM:+0000
TZOFFSETTO:+0000
TZNAME:UTC
DTSTART:20230101T000000
END:STANDARD
END:VTIMEZONE
BEGIN:VEVENT
DTSTART;TZID=UTC:20240104T143000
DTEND;TZID=UTC:20240104T163000
DTSTAMP:20260424T052913
CREATED:20240101T012320Z
LAST-MODIFIED:20240101T012320Z
UID:11429-1704378600-1704385800@merbaupulas.nadi.my
SUMMARY:(PEDi) E-Learning - Word Search Puzzle
DESCRIPTION:
URL:https://merbaupulas.nadi.my/event/pedi-e-learning-word-search-puzzle/
CATEGORIES:DEFAULT
END:VEVENT
BEGIN:VEVENT
DTSTART;TZID=UTC:20240105T103000
DTEND;TZID=UTC:20240105T123000
DTSTAMP:20260424T052913
CREATED:20240101T011322Z
LAST-MODIFIED:20240101T011322Z
UID:11419-1704450600-1704457800@merbaupulas.nadi.my
SUMMARY:(PEDi) Kelas CANVA (Poster New Year)
DESCRIPTION:
URL:https://merbaupulas.nadi.my/event/pedi-kelas-canva-poster-new-year/
CATEGORIES:DEFAULT
END:VEVENT
BEGIN:VEVENT
DTSTART;TZID=UTC:20240106T103000
DTEND;TZID=UTC:20240106T123000
DTSTAMP:20260424T052913
CREATED:20240101T011943Z
LAST-MODIFIED:20240101T011943Z
UID:11424-1704537000-1704544200@merbaupulas.nadi.my
SUMMARY:(PEDi) STEM - Catapult
DESCRIPTION:
URL:https://merbaupulas.nadi.my/event/pedi-stem-catapult-2/
CATEGORIES:DEFAULT
END:VEVENT
BEGIN:VEVENT
DTSTART;TZID=UTC:20240111T100000
DTEND;TZID=UTC:20240111T120000
DTSTAMP:20260424T052913
CREATED:20240101T012523Z
LAST-MODIFIED:20240101T012523Z
UID:11432-1704967200-1704974400@merbaupulas.nadi.my
SUMMARY:(PEDi) Kelas Resume
DESCRIPTION:
URL:https://merbaupulas.nadi.my/event/pedi-kelas-resume-2/
CATEGORIES:DEFAULT
END:VEVENT
BEGIN:VEVENT
DTSTART;TZID=UTC:20240112T103000
DTEND;TZID=UTC:20240112T123000
DTSTAMP:20260424T052913
CREATED:20240101T011605Z
LAST-MODIFIED:20240101T011605Z
UID:11420-1705055400-1705062600@merbaupulas.nadi.my
SUMMARY:(PEDi) Kelas Microsoft PowerPoint (Slide Hero)
DESCRIPTION:
URL:https://merbaupulas.nadi.my/event/pedi-kelas-microsoft-powerpoint-slide-hero/
CATEGORIES:DEFAULT
END:VEVENT
BEGIN:VEVENT
DTSTART;TZID=UTC:20240113T103000
DTEND;TZID=UTC:20240113T123000
DTSTAMP:20260424T052913
CREATED:20240101T011910Z
LAST-MODIFIED:20240101T011910Z
UID:11423-1705141800-1705149000@merbaupulas.nadi.my
SUMMARY:(PEDi) STEM - Kereta Solar
DESCRIPTION:
URL:https://merbaupulas.nadi.my/event/pedi-stem-kereta-solar/
CATEGORIES:DEFAULT
END:VEVENT
BEGIN:VEVENT
DTSTART;TZID=UTC:20240119T103000
DTEND;TZID=UTC:20240119T123000
DTSTAMP:20260424T052913
CREATED:20240101T011656Z
LAST-MODIFIED:20240101T011656Z
UID:11421-1705660200-1705667400@merbaupulas.nadi.my
SUMMARY:(PEDi) Kelas Microsoft Word (Cover Folio)
DESCRIPTION:
URL:https://merbaupulas.nadi.my/event/pedi-kelas-microsoft-word-cover-folio/
CATEGORIES:DEFAULT
END:VEVENT
BEGIN:VEVENT
DTSTART;TZID=UTC:20240119T143000
DTEND;TZID=UTC:20240119T163000
DTSTAMP:20260424T052913
CREATED:20240101T012650Z
LAST-MODIFIED:20240101T012650Z
UID:11434-1705674600-1705681800@merbaupulas.nadi.my
SUMMARY:(PEDi) Klik Dengan Bijak (Online Grooming)
DESCRIPTION:
URL:https://merbaupulas.nadi.my/event/pedi-klik-dengan-bijak-online-grooming/
CATEGORIES:DEFAULT
END:VEVENT
BEGIN:VEVENT
DTSTART;TZID=UTC:20240120T103000
DTEND;TZID=UTC:20240120T123000
DTSTAMP:20260424T052913
CREATED:20240101T012419Z
LAST-MODIFIED:20240101T012419Z
UID:11430-1705746600-1705753800@merbaupulas.nadi.my
SUMMARY:(PEDi) Kelas E-Learning Tahap 1
DESCRIPTION:
URL:https://merbaupulas.nadi.my/event/pedi-kelas-e-learning-tahap-1/
CATEGORIES:DEFAULT
END:VEVENT
BEGIN:VEVENT
DTSTART;TZID=UTC:20240120T143000
DTEND;TZID=UTC:20240120T163000
DTSTAMP:20260424T052913
CREATED:20240101T012607Z
LAST-MODIFIED:20240101T012607Z
UID:11433-1705761000-1705768200@merbaupulas.nadi.my
SUMMARY:(PEDi) Kelas Grooming
DESCRIPTION:
URL:https://merbaupulas.nadi.my/event/pedi-kelas-grooming-2/
CATEGORIES:DEFAULT
END:VEVENT
BEGIN:VEVENT
DTSTART;TZID=UTC:20240122T143000
DTEND;TZID=UTC:20240122T163000
DTSTAMP:20260424T052913
CREATED:20240101T012104Z
LAST-MODIFIED:20240101T012104Z
UID:11426-1705933800-1705941000@merbaupulas.nadi.my
SUMMARY:(PEDi) Kelas Affiliate Shopee
DESCRIPTION:
URL:https://merbaupulas.nadi.my/event/pedi-kelas-affiliate-shopee-10/
CATEGORIES:DEFAULT
END:VEVENT
BEGIN:VEVENT
DTSTART;TZID=UTC:20240125T143000
DTEND;TZID=UTC:20240125T163000
DTSTAMP:20260424T052913
CREATED:20240101T012230Z
LAST-MODIFIED:20240101T012230Z
UID:11428-1706193000-1706200200@merbaupulas.nadi.my
SUMMARY:(PEDi) Kelas Pemasaran Digital
DESCRIPTION:
URL:https://merbaupulas.nadi.my/event/pedi-kelas-pemasaran-digital/
CATEGORIES:DEFAULT
END:VEVENT
BEGIN:VEVENT
DTSTART;TZID=UTC:20240126T103000
DTEND;TZID=UTC:20240126T123000
DTSTAMP:20260424T052913
CREATED:20240101T011801Z
LAST-MODIFIED:20240101T011801Z
UID:11422-1706265000-1706272200@merbaupulas.nadi.my
SUMMARY:(PEDi) Kelas Microsoft PowerPoint (Art PowerPoint)
DESCRIPTION:
URL:https://merbaupulas.nadi.my/event/pedi-kelas-microsoft-powerpoint-art-powerpoint/
CATEGORIES:DEFAULT
END:VEVENT
BEGIN:VEVENT
DTSTART;TZID=UTC:20240127T103000
DTEND;TZID=UTC:20240127T123000
DTSTAMP:20260424T052913
CREATED:20240101T012017Z
LAST-MODIFIED:20240101T012017Z
UID:11425-1706351400-1706358600@merbaupulas.nadi.my
SUMMARY:(PEDi) STEM - Walking Water
DESCRIPTION:
URL:https://merbaupulas.nadi.my/event/pedi-stem-walking-water/
CATEGORIES:DEFAULT
END:VEVENT
BEGIN:VEVENT
DTSTART;TZID=UTC:20240127T103000
DTEND;TZID=UTC:20240127T123000
DTSTAMP:20260424T052913
CREATED:20240101T012452Z
LAST-MODIFIED:20240101T012452Z
UID:11431-1706351400-1706358600@merbaupulas.nadi.my
SUMMARY:(PEDi) Kelas E-Learning Tahap 2
DESCRIPTION:
URL:https://merbaupulas.nadi.my/event/pedi-kelas-e-learning-tahap-2/
CATEGORIES:DEFAULT
END:VEVENT
BEGIN:VEVENT
DTSTART;TZID=UTC:20240127T143000
DTEND;TZID=UTC:20240127T163000
DTSTAMP:20260424T052913
CREATED:20240101T012725Z
LAST-MODIFIED:20240101T012725Z
UID:11435-1706365800-1706373000@merbaupulas.nadi.my
SUMMARY:(PEDi) Klik Dengan Bijak (Oversharing)
DESCRIPTION:
URL:https://merbaupulas.nadi.my/event/pedi-klik-dengan-bijak-oversharing/
CATEGORIES:DEFAULT
END:VEVENT
BEGIN:VEVENT
DTSTART;TZID=UTC:20240130T103000
DTEND;TZID=UTC:20240130T123000
DTSTAMP:20260424T052913
CREATED:20240101T012135Z
LAST-MODIFIED:20240101T012135Z
UID:11427-1706610600-1706617800@merbaupulas.nadi.my
SUMMARY:(PEDi) Kelas Affiliate Shopee
DESCRIPTION:
URL:https://merbaupulas.nadi.my/event/pedi-kelas-affiliate-shopee-11/
CATEGORIES:DEFAULT
END:VEVENT
END:VCALENDAR