BEGIN:VCALENDAR
VERSION:2.0
PRODID:-//NADI Merbau Pulas - ECPv6.15.12.2//NONSGML v1.0//EN
CALSCALE:GREGORIAN
METHOD:PUBLISH
X-WR-CALNAME:NADI Merbau Pulas
X-ORIGINAL-URL:https://merbaupulas.nadi.my
X-WR-CALDESC:Events for NADI Merbau Pulas
REFRESH-INTERVAL;VALUE=DURATION:PT1H
X-Robots-Tag:noindex
X-PUBLISHED-TTL:PT1H
BEGIN:VTIMEZONE
TZID:UTC
BEGIN:STANDARD
TZOFFSETFROM:+0000
TZOFFSETTO:+0000
TZNAME:UTC
DTSTART:20220101T000000
END:STANDARD
END:VTIMEZONE
BEGIN:VEVENT
DTSTART;TZID=UTC:20231007T103000
DTEND;TZID=UTC:20231007T123000
DTSTAMP:20260426T085207
CREATED:20231007T190104Z
LAST-MODIFIED:20231007T190104Z
UID:11374-1696674600-1696681800@merbaupulas.nadi.my
SUMMARY:(PEDi) Kelas Komputer (Microsoft Word) - Cara Menaip
DESCRIPTION:
URL:https://merbaupulas.nadi.my/event/pedi-kelas-komputer-microsoft-word-cara-menaip/
CATEGORIES:DEFAULT
END:VEVENT
BEGIN:VEVENT
DTSTART;TZID=UTC:20231007T141500
DTEND;TZID=UTC:20231007T151500
DTSTAMP:20260426T085207
CREATED:20231007T190144Z
LAST-MODIFIED:20231007T190144Z
UID:11375-1696688100-1696691700@merbaupulas.nadi.my
SUMMARY:(HQ) Kelas E-Tuisyen
DESCRIPTION:
URL:https://merbaupulas.nadi.my/event/hq-kelas-e-tuisyen/
CATEGORIES:DEFAULT
END:VEVENT
END:VCALENDAR