BEGIN:VCALENDAR
VERSION:2.0
PRODID:-//NADI Merbau Pulas - ECPv6.15.12.2//NONSGML v1.0//EN
CALSCALE:GREGORIAN
METHOD:PUBLISH
X-WR-CALNAME:NADI Merbau Pulas
X-ORIGINAL-URL:https://merbaupulas.nadi.my
X-WR-CALDESC:Events for NADI Merbau Pulas
REFRESH-INTERVAL;VALUE=DURATION:PT1H
X-Robots-Tag:noindex
X-PUBLISHED-TTL:PT1H
BEGIN:VTIMEZONE
TZID:UTC
BEGIN:STANDARD
TZOFFSETFROM:+0000
TZOFFSETTO:+0000
TZNAME:UTC
DTSTART:20230101T000000
END:STANDARD
END:VTIMEZONE
BEGIN:VEVENT
DTSTART;TZID=UTC:20240615T103000
DTEND;TZID=UTC:20240615T123000
DTSTAMP:20260421T072114
CREATED:20240604T205343Z
LAST-MODIFIED:20240604T205343Z
UID:11503-1718447400-1718454600@merbaupulas.nadi.my
SUMMARY:Softskills - Block Wooden Challenge
DESCRIPTION:
URL:https://merbaupulas.nadi.my/event/softskills-block-wooden-challenge/
CATEGORIES:DEFAULT
END:VEVENT
BEGIN:VEVENT
DTSTART;TZID=UTC:20240615T150000
DTEND;TZID=UTC:20240615T170000
DTSTAMP:20260421T072114
CREATED:20240609T175627Z
LAST-MODIFIED:20240609T175627Z
UID:11512-1718463600-1718470800@merbaupulas.nadi.my
SUMMARY:Klik Dengan Bijak
DESCRIPTION:
URL:https://merbaupulas.nadi.my/event/klik-dengan-bijak-3/
CATEGORIES:DEFAULT
END:VEVENT
END:VCALENDAR