BEGIN:VCALENDAR
VERSION:2.0
PRODID:-//NADI Merbau Pulas - ECPv6.15.12.2//NONSGML v1.0//EN
CALSCALE:GREGORIAN
METHOD:PUBLISH
X-ORIGINAL-URL:https://merbaupulas.nadi.my
X-WR-CALDESC:Events for NADI Merbau Pulas
REFRESH-INTERVAL;VALUE=DURATION:PT1H
X-Robots-Tag:noindex
X-PUBLISHED-TTL:PT1H
BEGIN:VTIMEZONE
TZID:UTC
BEGIN:STANDARD
TZOFFSETFROM:+0000
TZOFFSETTO:+0000
TZNAME:UTC
DTSTART:20230101T000000
END:STANDARD
END:VTIMEZONE
BEGIN:VEVENT
DTSTART;TZID=UTC:20240705T100000
DTEND;TZID=UTC:20240705T120000
DTSTAMP:20260420T040131
CREATED:20240703T232838Z
LAST-MODIFIED:20240703T232838Z
UID:11522-1720173600-1720180800@merbaupulas.nadi.my
SUMMARY:Klik Dengan Bijak
DESCRIPTION:
URL:https://merbaupulas.nadi.my/event/klik-dengan-bijak-4/
CATEGORIES:DEFAULT
END:VEVENT
BEGIN:VEVENT
DTSTART;TZID=UTC:20240705T150000
DTEND;TZID=UTC:20240705T170000
DTSTAMP:20260420T040131
CREATED:20240703T232459Z
LAST-MODIFIED:20240703T232459Z
UID:11518-1720191600-1720198800@merbaupulas.nadi.my
SUMMARY:BE - Kelas ICT (Surat Perjanjian)
DESCRIPTION:
URL:https://merbaupulas.nadi.my/event/be-kelas-ict-surat-perjanjian/
CATEGORIES:DEFAULT
END:VEVENT
END:VCALENDAR