BEGIN:VCALENDAR
VERSION:2.0
PRODID:-//NADI Merbau Pulas - ECPv6.15.12.2//NONSGML v1.0//EN
CALSCALE:GREGORIAN
METHOD:PUBLISH
X-ORIGINAL-URL:https://merbaupulas.nadi.my
X-WR-CALDESC:Events for NADI Merbau Pulas
REFRESH-INTERVAL;VALUE=DURATION:PT1H
X-Robots-Tag:noindex
X-PUBLISHED-TTL:PT1H
BEGIN:VTIMEZONE
TZID:UTC
BEGIN:STANDARD
TZOFFSETFROM:+0000
TZOFFSETTO:+0000
TZNAME:UTC
DTSTART:20230101T000000
END:STANDARD
END:VTIMEZONE
BEGIN:VEVENT
DTSTART;TZID=UTC:20240719T100000
DTEND;TZID=UTC:20240719T120000
DTSTAMP:20260420T040147
CREATED:20240703T232950Z
LAST-MODIFIED:20240703T232950Z
UID:11524-1721383200-1721390400@merbaupulas.nadi.my
SUMMARY:STEM - 3D Doodle Art Challenge
DESCRIPTION:
URL:https://merbaupulas.nadi.my/event/stem-3d-doodle-art-challenge/
CATEGORIES:DEFAULT
END:VEVENT
BEGIN:VEVENT
DTSTART;TZID=UTC:20240719T150000
DTEND;TZID=UTC:20240719T170000
DTSTAMP:20260420T040147
CREATED:20240703T232750Z
LAST-MODIFIED:20240703T232750Z
UID:11521-1721401200-1721408400@merbaupulas.nadi.my
SUMMARY:Softskills - Block Wooden Challenge
DESCRIPTION:
URL:https://merbaupulas.nadi.my/event/softskills-block-wooden-challenge-2/
CATEGORIES:DEFAULT
END:VEVENT
END:VCALENDAR