BEGIN:VCALENDAR
VERSION:2.0
PRODID:-//NADI Merbau Pulas - ECPv6.15.12.2//NONSGML v1.0//EN
CALSCALE:GREGORIAN
METHOD:PUBLISH
X-WR-CALNAME:NADI Merbau Pulas
X-ORIGINAL-URL:https://merbaupulas.nadi.my
X-WR-CALDESC:Events for NADI Merbau Pulas
REFRESH-INTERVAL;VALUE=DURATION:PT1H
X-Robots-Tag:noindex
X-PUBLISHED-TTL:PT1H
BEGIN:VTIMEZONE
TZID:UTC
BEGIN:STANDARD
TZOFFSETFROM:+0000
TZOFFSETTO:+0000
TZNAME:UTC
DTSTART:20210101T000000
END:STANDARD
END:VTIMEZONE
BEGIN:VEVENT
DTSTART;TZID=UTC:20220917T100000
DTEND;TZID=UTC:20220917T120000
DTSTAMP:20260422T091051
CREATED:20220910T201810Z
LAST-MODIFIED:20220910T201810Z
UID:11209-1663408800-1663416000@merbaupulas.nadi.my
SUMMARY:Jigsaw Planet Hari Malaysia
DESCRIPTION:
URL:https://merbaupulas.nadi.my/event/jigsaw-planet-hari-malaysia/
CATEGORIES:DEFAULT
END:VEVENT
BEGIN:VEVENT
DTSTART;TZID=UTC:20220915T100000
DTEND;TZID=UTC:20220915T120000
DTSTAMP:20260422T091051
CREATED:20220910T201625Z
LAST-MODIFIED:20220910T201625Z
UID:11208-1663236000-1663243200@merbaupulas.nadi.my
SUMMARY:Sambutan Hari Malaysia Bersama PASTI
DESCRIPTION:
URL:https://merbaupulas.nadi.my/event/sambutan-hari-malaysia-bersama-pasti/
CATEGORIES:DEFAULT
END:VEVENT
BEGIN:VEVENT
DTSTART;TZID=UTC:20220909T103000
DTEND;TZID=UTC:20220909T123000
DTSTAMP:20260422T091051
CREATED:20220910T201515Z
LAST-MODIFIED:20220910T201515Z
UID:11207-1662719400-1662726600@merbaupulas.nadi.my
SUMMARY:Kelas Komputer
DESCRIPTION:
URL:https://merbaupulas.nadi.my/event/kelas-komputer-28/
CATEGORIES:DEFAULT
END:VEVENT
BEGIN:VEVENT
DTSTART;TZID=UTC:20220906T103000
DTEND;TZID=UTC:20220906T123000
DTSTAMP:20260422T091051
CREATED:20220910T201327Z
LAST-MODIFIED:20220910T201327Z
UID:11206-1662460200-1662467400@merbaupulas.nadi.my
SUMMARY:Kuiz Hari Malaysia Sempena Cuti Sekolah 2022
DESCRIPTION:
URL:https://merbaupulas.nadi.my/event/kuiz-hari-malaysia-sempena-cuti-sekolah-2022/
CATEGORIES:DEFAULT
END:VEVENT
BEGIN:VEVENT
DTSTART;TZID=UTC:20220904T110000
DTEND;TZID=UTC:20220904T130000
DTSTAMP:20260422T091051
CREATED:20220910T201112Z
LAST-MODIFIED:20220910T201112Z
UID:11205-1662289200-1662296400@merbaupulas.nadi.my
SUMMARY:Kelas Pemasaran Digital - Shopee
DESCRIPTION:
URL:https://merbaupulas.nadi.my/event/kelas-pemasaran-digital-shopee/
CATEGORIES:DEFAULT
END:VEVENT
BEGIN:VEVENT
DTSTART;TZID=UTC:20220904T103000
DTEND;TZID=UTC:20220904T123000
DTSTAMP:20260422T091051
CREATED:20220910T200857Z
LAST-MODIFIED:20220910T200857Z
UID:11204-1662287400-1662294600@merbaupulas.nadi.my
SUMMARY:Majlis Penyampaian Hadiah Pertandingan Video Kreatif
DESCRIPTION:
URL:https://merbaupulas.nadi.my/event/majlis-penyampaian-hadiah-pertandingan-video-kreatif/
CATEGORIES:DEFAULT
END:VEVENT
BEGIN:VEVENT
DTSTART;TZID=UTC:20220903T100000
DTEND;TZID=UTC:20220903T120000
DTSTAMP:20260422T091051
CREATED:20220910T200728Z
LAST-MODIFIED:20220910T200728Z
UID:11203-1662199200-1662206400@merbaupulas.nadi.my
SUMMARY:Kelas Komputer - Poster Hari Malaysia 2022
DESCRIPTION:
URL:https://merbaupulas.nadi.my/event/kelas-komputer-poster-hari-malaysia-2022/
CATEGORIES:DEFAULT
END:VEVENT
BEGIN:VEVENT
DTSTART;TZID=UTC:20220901T100000
DTEND;TZID=UTC:20220901T130000
DTSTAMP:20260422T091051
CREATED:20220910T200412Z
LAST-MODIFIED:20220910T200412Z
UID:11202-1662026400-1662037200@merbaupulas.nadi.my
SUMMARY:Taklimat Bersama TEKUN
DESCRIPTION:
URL:https://merbaupulas.nadi.my/event/taklimat-bersama-tekun/
CATEGORIES:DEFAULT
END:VEVENT
BEGIN:VEVENT
DTSTART;TZID=UTC:20220724T090000
DTEND;TZID=UTC:20220724T153000
DTSTAMP:20260422T091051
CREATED:20220706T012213Z
LAST-MODIFIED:20220706T012213Z
UID:11201-1658653200-1658676600@merbaupulas.nadi.my
SUMMARY:Program Keusahawanan dan Agensi bersama PEDi
DESCRIPTION:
URL:https://merbaupulas.nadi.my/event/program-keusahawanan-dan-agensi-bersama-pedi/
LOCATION:PEDi Merbau Pulas\, PEDi Merbau Pulas
CATEGORIES:DEFAULT
END:VEVENT
BEGIN:VEVENT
DTSTART;TZID=UTC:20220723T090000
DTEND;TZID=UTC:20220723T130000
DTSTAMP:20260422T091051
CREATED:20220706T012028Z
LAST-MODIFIED:20220706T012028Z
UID:11200-1658566800-1658581200@merbaupulas.nadi.my
SUMMARY:Kelas Keusahawanan (Shopee)
DESCRIPTION:
URL:https://merbaupulas.nadi.my/event/kelas-keusahawanan-shopee/
LOCATION:PEDi Merbau Pulas\, PEDi Merbau Pulas
CATEGORIES:DEFAULT
END:VEVENT
BEGIN:VEVENT
DTSTART;TZID=UTC:20220722T103000
DTEND;TZID=UTC:20220722T123000
DTSTAMP:20260422T091051
CREATED:20220706T011913Z
LAST-MODIFIED:20220706T011913Z
UID:11199-1658485800-1658493000@merbaupulas.nadi.my
SUMMARY:Kelas E-Learning
DESCRIPTION:
URL:https://merbaupulas.nadi.my/event/kelas-e-learning-9/
LOCATION:PEDi Merbau Pulas\, PEDi Merbau Pulas
CATEGORIES:DEFAULT
END:VEVENT
BEGIN:VEVENT
DTSTART;TZID=UTC:20220715T103000
DTEND;TZID=UTC:20220715T123000
DTSTAMP:20260422T091051
CREATED:20220706T011808Z
LAST-MODIFIED:20220706T011808Z
UID:11198-1657881000-1657888200@merbaupulas.nadi.my
SUMMARY:Word Search
DESCRIPTION:
URL:https://merbaupulas.nadi.my/event/word-search-2/
LOCATION:PEDi Merbau Pulas\, PEDi Merbau Pulas
CATEGORIES:DEFAULT
END:VEVENT
BEGIN:VEVENT
DTSTART;TZID=UTC:20220714T150000
DTEND;TZID=UTC:20220714T170000
DTSTAMP:20260422T091051
CREATED:20220706T011620Z
LAST-MODIFIED:20220706T011620Z
UID:11197-1657810800-1657818000@merbaupulas.nadi.my
SUMMARY:Kelas Komputer (Microsoft Word Sesi 2)
DESCRIPTION:
URL:https://merbaupulas.nadi.my/event/kelas-komputer-microsoft-word-sesi-2/
LOCATION:PEDi Merbau Pulas\, PEDi Merbau Pulas
CATEGORIES:DEFAULT
END:VEVENT
BEGIN:VEVENT
DTSTART;TZID=UTC:20220707T150000
DTEND;TZID=UTC:20220707T170000
DTSTAMP:20260422T091051
CREATED:20220706T011513Z
LAST-MODIFIED:20220706T011513Z
UID:11196-1657206000-1657213200@merbaupulas.nadi.my
SUMMARY:Kelas Komputer (Microsoft Word Sesi 1)
DESCRIPTION:
URL:https://merbaupulas.nadi.my/event/kelas-komputer-microsoft-word-sesi-1/
LOCATION:PEDi Merbau Pulas\, PEDi Merbau Pulas
CATEGORIES:DEFAULT
END:VEVENT
BEGIN:VEVENT
DTSTART;TZID=UTC:20220701T103000
DTEND;TZID=UTC:20220701T123000
DTSTAMP:20260422T091051
CREATED:20220706T011231Z
LAST-MODIFIED:20220706T011231Z
UID:11195-1656671400-1656678600@merbaupulas.nadi.my
SUMMARY:Kelas E-Learning
DESCRIPTION:
URL:https://merbaupulas.nadi.my/event/kelas-e-learning-8/
LOCATION:PEDi Merbau Pulas\, PEDi Merbau Pulas
CATEGORIES:DEFAULT
END:VEVENT
BEGIN:VEVENT
DTSTART;TZID=UTC:20220625T080000
DTEND;TZID=UTC:20220625T170000
DTSTAMP:20260422T091051
CREATED:20220530T010754Z
LAST-MODIFIED:20220530T010754Z
UID:11194-1656144000-1656176400@merbaupulas.nadi.my
SUMMARY:Pertandingan Word Search
DESCRIPTION:
URL:https://merbaupulas.nadi.my/event/pertandingan-word-search/
CATEGORIES:DEFAULT
END:VEVENT
BEGIN:VEVENT
DTSTART;TZID=UTC:20220624T080000
DTEND;TZID=UTC:20220624T170000
DTSTAMP:20260422T091051
CREATED:20220530T010721Z
LAST-MODIFIED:20220530T010721Z
UID:11193-1656057600-1656090000@merbaupulas.nadi.my
SUMMARY:Kuiz dan Taklimat KDB
DESCRIPTION:
URL:https://merbaupulas.nadi.my/event/kuiz-dan-taklimat-kdb/
CATEGORIES:DEFAULT
END:VEVENT
BEGIN:VEVENT
DTSTART;TZID=UTC:20220618T080000
DTEND;TZID=UTC:20220618T170000
DTSTAMP:20260422T091051
CREATED:20220530T010645Z
LAST-MODIFIED:20220530T010645Z
UID:11192-1655539200-1655571600@merbaupulas.nadi.my
SUMMARY:Kelas Keusahawanan
DESCRIPTION:
URL:https://merbaupulas.nadi.my/event/kelas-keusahawanan-8/
CATEGORIES:DEFAULT
END:VEVENT
BEGIN:VEVENT
DTSTART;TZID=UTC:20220617T080000
DTEND;TZID=UTC:20220617T170000
DTSTAMP:20260422T091051
CREATED:20220530T010615Z
LAST-MODIFIED:20220530T010615Z
UID:11191-1655452800-1655485200@merbaupulas.nadi.my
SUMMARY:Kelas Membuat Video
DESCRIPTION:
URL:https://merbaupulas.nadi.my/event/kelas-membuat-video/
CATEGORIES:DEFAULT
END:VEVENT
BEGIN:VEVENT
DTSTART;TZID=UTC:20220611T080000
DTEND;TZID=UTC:20220611T170000
DTSTAMP:20260422T091051
CREATED:20220530T010533Z
LAST-MODIFIED:20220530T010533Z
UID:11190-1654934400-1654966800@merbaupulas.nadi.my
SUMMARY:Kelas Komputer
DESCRIPTION:
URL:https://merbaupulas.nadi.my/event/kelas-komputer-27/
CATEGORIES:DEFAULT
END:VEVENT
BEGIN:VEVENT
DTSTART;TZID=UTC:20220610T080000
DTEND;TZID=UTC:20220610T170000
DTSTAMP:20260422T091051
CREATED:20220530T010439Z
LAST-MODIFIED:20220530T010439Z
UID:11189-1654848000-1654880400@merbaupulas.nadi.my
SUMMARY:Kelas e-Learning
DESCRIPTION:
URL:https://merbaupulas.nadi.my/event/kelas-e-learning-7/
CATEGORIES:DEFAULT
END:VEVENT
BEGIN:VEVENT
DTSTART;TZID=UTC:20220609T080000
DTEND;TZID=UTC:20220609T170000
DTSTAMP:20260422T091051
CREATED:20220530T010333Z
LAST-MODIFIED:20220530T010333Z
UID:11188-1654761600-1654794000@merbaupulas.nadi.my
SUMMARY:Kelas Komputer
DESCRIPTION:
URL:https://merbaupulas.nadi.my/event/kelas-komputer-26/
LOCATION:PEDi Merbau Pulas\, PEDi Merbau Pulas
CATEGORIES:DEFAULT
END:VEVENT
BEGIN:VEVENT
DTSTART;TZID=UTC:20220528T080000
DTEND;TZID=UTC:20220528T170000
DTSTAMP:20260422T091051
CREATED:20220510T031329Z
LAST-MODIFIED:20220510T031329Z
UID:11187-1653724800-1653757200@merbaupulas.nadi.my
SUMMARY:Kuiz Kahoot KDB
DESCRIPTION:
URL:https://merbaupulas.nadi.my/event/kuiz-kahoot-kdb/
LOCATION:PEDi Merbau Pulas\, PEDi Merbau Pulas
CATEGORIES:DEFAULT
END:VEVENT
BEGIN:VEVENT
DTSTART;TZID=UTC:20220527T080000
DTEND;TZID=UTC:20220527T170000
DTSTAMP:20260422T091051
CREATED:20220510T031233Z
LAST-MODIFIED:20220510T031233Z
UID:11186-1653638400-1653670800@merbaupulas.nadi.my
SUMMARY:Kelas Komputer Dewasa
DESCRIPTION:
URL:https://merbaupulas.nadi.my/event/kelas-komputer-dewasa-3/
LOCATION:PEDi Merbau Pulas\, PEDi Merbau Pulas
CATEGORIES:DEFAULT
END:VEVENT
BEGIN:VEVENT
DTSTART;TZID=UTC:20220521T080000
DTEND;TZID=UTC:20220521T170000
DTSTAMP:20260422T091051
CREATED:20220510T030705Z
LAST-MODIFIED:20220510T030705Z
UID:11185-1653120000-1653152400@merbaupulas.nadi.my
SUMMARY:Kelas Komputer
DESCRIPTION:
URL:https://merbaupulas.nadi.my/event/kelas-komputer-25/
LOCATION:PEDi Merbau Pulas\, PEDi Merbau Pulas
CATEGORIES:DEFAULT
END:VEVENT
BEGIN:VEVENT
DTSTART;TZID=UTC:20220520T080000
DTEND;TZID=UTC:20220520T170000
DTSTAMP:20260422T091051
CREATED:20220510T030043Z
LAST-MODIFIED:20220510T030043Z
UID:11184-1653033600-1653066000@merbaupulas.nadi.my
SUMMARY:Kelas e-Learning
DESCRIPTION:
URL:https://merbaupulas.nadi.my/event/kelas-e-learning-6/
LOCATION:PEDi Merbau Pulas\, PEDi Merbau Pulas
CATEGORIES:DEFAULT
END:VEVENT
BEGIN:VEVENT
DTSTART;TZID=UTC:20220519T080000
DTEND;TZID=UTC:20220519T170000
DTSTAMP:20260422T091051
CREATED:20220510T025608Z
LAST-MODIFIED:20220510T025608Z
UID:11183-1652947200-1652979600@merbaupulas.nadi.my
SUMMARY:Kelas Komputer
DESCRIPTION:
URL:https://merbaupulas.nadi.my/event/kelas-komputer-24/
LOCATION:PEDi Merbau Pulas\, PEDi Merbau Pulas
CATEGORIES:DEFAULT
END:VEVENT
BEGIN:VEVENT
DTSTART;TZID=UTC:20220514T080000
DTEND;TZID=UTC:20220514T170000
DTSTAMP:20260422T091051
CREATED:20220510T025245Z
LAST-MODIFIED:20220510T025245Z
UID:11182-1652515200-1652547600@merbaupulas.nadi.my
SUMMARY:Kad Hari Guru
DESCRIPTION:
URL:https://merbaupulas.nadi.my/event/kad-hari-guru/
LOCATION:PEDi Merbau Pulas\, PEDi Merbau Pulas
CATEGORIES:DEFAULT
END:VEVENT
BEGIN:VEVENT
DTSTART;TZID=UTC:20220513T080000
DTEND;TZID=UTC:20220513T170000
DTSTAMP:20260422T091051
CREATED:20220510T025056Z
LAST-MODIFIED:20220510T025056Z
UID:11181-1652428800-1652461200@merbaupulas.nadi.my
SUMMARY:Pertandingan Mewarna 'Aidilfitri'
DESCRIPTION:
URL:https://merbaupulas.nadi.my/event/pertandingan-mewarna-aidilfitri/
LOCATION:PEDi Merbau Pulas\, PEDi Merbau Pulas
CATEGORIES:DEFAULT
END:VEVENT
BEGIN:VEVENT
DTSTART;TZID=UTC:20220429T080000
DTEND;TZID=UTC:20220429T180000
DTSTAMP:20260422T091051
CREATED:20220327T204521Z
LAST-MODIFIED:20220327T204521Z
UID:11180-1651219200-1651255200@merbaupulas.nadi.my
SUMMARY:Pertandingan Mewarna (Sambutan Aidilfitri)
DESCRIPTION:
URL:https://merbaupulas.nadi.my/event/pertandingan-mewarna-sambutan-aidilfitri/
CATEGORIES:DEFAULT
END:VEVENT
END:VCALENDAR