BEGIN:VCALENDAR
VERSION:2.0
PRODID:-//NADI Merbau Pulas - ECPv6.15.12.2//NONSGML v1.0//EN
CALSCALE:GREGORIAN
METHOD:PUBLISH
X-WR-CALNAME:NADI Merbau Pulas
X-ORIGINAL-URL:https://merbaupulas.nadi.my
X-WR-CALDESC:Events for NADI Merbau Pulas
REFRESH-INTERVAL;VALUE=DURATION:PT1H
X-Robots-Tag:noindex
X-PUBLISHED-TTL:PT1H
BEGIN:VTIMEZONE
TZID:UTC
BEGIN:STANDARD
TZOFFSETFROM:+0000
TZOFFSETTO:+0000
TZNAME:UTC
DTSTART:20200101T000000
END:STANDARD
END:VTIMEZONE
BEGIN:VEVENT
DTSTART;TZID=UTC:20220423T080000
DTEND;TZID=UTC:20220423T180000
DTSTAMP:20260423T161359
CREATED:20220327T204409Z
LAST-MODIFIED:20220327T204409Z
UID:11179-1650700800-1650736800@merbaupulas.nadi.my
SUMMARY:Kelas Keusahawanan
DESCRIPTION:
URL:https://merbaupulas.nadi.my/event/kelas-keusahawanan-7/
CATEGORIES:DEFAULT
END:VEVENT
BEGIN:VEVENT
DTSTART;TZID=UTC:20220422T080000
DTEND;TZID=UTC:20220422T180000
DTSTAMP:20260423T161359
CREATED:20220327T203733Z
LAST-MODIFIED:20220327T203733Z
UID:11178-1650614400-1650650400@merbaupulas.nadi.my
SUMMARY:Jom Buat Kad Raya Online
DESCRIPTION:
URL:https://merbaupulas.nadi.my/event/jom-buat-kad-raya-online/
CATEGORIES:DEFAULT
END:VEVENT
BEGIN:VEVENT
DTSTART;TZID=UTC:20220416T080000
DTEND;TZID=UTC:20220416T180000
DTSTAMP:20260423T161359
CREATED:20220327T203554Z
LAST-MODIFIED:20220327T203554Z
UID:11177-1650096000-1650132000@merbaupulas.nadi.my
SUMMARY:Kelas Komputer
DESCRIPTION:
URL:https://merbaupulas.nadi.my/event/kelas-komputer-23/
CATEGORIES:DEFAULT
END:VEVENT
BEGIN:VEVENT
DTSTART;TZID=UTC:20220415T080000
DTEND;TZID=UTC:20220415T180000
DTSTAMP:20260423T161359
CREATED:20220327T203512Z
LAST-MODIFIED:20220327T203512Z
UID:11176-1650009600-1650045600@merbaupulas.nadi.my
SUMMARY:Kelas Komputer (Kenal Excel)
DESCRIPTION:
URL:https://merbaupulas.nadi.my/event/kelas-komputer-kenal-excel/
CATEGORIES:DEFAULT
END:VEVENT
BEGIN:VEVENT
DTSTART;TZID=UTC:20220414T080000
DTEND;TZID=UTC:20220414T180000
DTSTAMP:20260423T161359
CREATED:20220327T203420Z
LAST-MODIFIED:20220327T203420Z
UID:11175-1649923200-1649959200@merbaupulas.nadi.my
SUMMARY:Kelas Komputer
DESCRIPTION:
URL:https://merbaupulas.nadi.my/event/kelas-komputer-22/
CATEGORIES:DEFAULT
END:VEVENT
BEGIN:VEVENT
DTSTART;TZID=UTC:20220409T080000
DTEND;TZID=UTC:20220409T180000
DTSTAMP:20260423T161359
CREATED:20220327T203156Z
LAST-MODIFIED:20220327T203156Z
UID:11174-1649491200-1649527200@merbaupulas.nadi.my
SUMMARY:Kelas e-Learning
DESCRIPTION:
URL:https://merbaupulas.nadi.my/event/kelas-e-learning-5/
CATEGORIES:DEFAULT
END:VEVENT
BEGIN:VEVENT
DTSTART;TZID=UTC:20220408T080000
DTEND;TZID=UTC:20220408T180000
DTSTAMP:20260423T161359
CREATED:20220327T203118Z
LAST-MODIFIED:20220327T203118Z
UID:11173-1649404800-1649440800@merbaupulas.nadi.my
SUMMARY:Kuiz Bulan Ramadan
DESCRIPTION:
URL:https://merbaupulas.nadi.my/event/kuiz-bulan-ramadan/
CATEGORIES:DEFAULT
END:VEVENT
BEGIN:VEVENT
DTSTART;TZID=UTC:20220402T080000
DTEND;TZID=UTC:20220402T180000
DTSTAMP:20260423T161359
CREATED:20220327T203020Z
LAST-MODIFIED:20220327T203020Z
UID:11172-1648886400-1648922400@merbaupulas.nadi.my
SUMMARY:Pertandingan Mewarna
DESCRIPTION:
URL:https://merbaupulas.nadi.my/event/pertandingan-mewarna/
CATEGORIES:DEFAULT
END:VEVENT
BEGIN:VEVENT
DTSTART;TZID=UTC:20220401T080000
DTEND;TZID=UTC:20220401T180000
DTSTAMP:20260423T161359
CREATED:20220327T202844Z
LAST-MODIFIED:20220327T202844Z
UID:11171-1648800000-1648836000@merbaupulas.nadi.my
SUMMARY:Kelas Komputer (Poster Ramadan)
DESCRIPTION:
URL:https://merbaupulas.nadi.my/event/kelas-komputer-poster-ramadan/
CATEGORIES:DEFAULT
END:VEVENT
BEGIN:VEVENT
DTSTART;TZID=UTC:20220326T103000
DTEND;TZID=UTC:20220326T123000
DTSTAMP:20260423T161359
CREATED:20220311T023105Z
LAST-MODIFIED:20220311T023105Z
UID:11170-1648290600-1648297800@merbaupulas.nadi.my
SUMMARY:Kelas E-Learning Kanak-Kanak
DESCRIPTION:
URL:https://merbaupulas.nadi.my/event/kelas-e-learning-kanak-kanak-2/
LOCATION:PEDi Merbau Pulas\, PEDi Merbau Pulas
CATEGORIES:DEFAULT
END:VEVENT
BEGIN:VEVENT
DTSTART;TZID=UTC:20220325T100000
DTEND;TZID=UTC:20220325T120000
DTSTAMP:20260423T161359
CREATED:20220311T022731Z
LAST-MODIFIED:20220311T022731Z
UID:11169-1648202400-1648209600@merbaupulas.nadi.my
SUMMARY:Kelas Keusahawanan-Create Page
DESCRIPTION:
URL:https://merbaupulas.nadi.my/event/kelas-keusahawanan-create-page/
LOCATION:PEDi Merbau Pulas\, PEDi Merbau Pulas
CATEGORIES:DEFAULT
END:VEVENT
BEGIN:VEVENT
DTSTART;TZID=UTC:20220319T103000
DTEND;TZID=UTC:20220319T123000
DTSTAMP:20260423T161359
CREATED:20220311T022607Z
LAST-MODIFIED:20220311T022607Z
UID:11168-1647685800-1647693000@merbaupulas.nadi.my
SUMMARY:Word Search
DESCRIPTION:
URL:https://merbaupulas.nadi.my/event/word-search/
LOCATION:PEDi Merbau Pulas\, PEDi Merbau Pulas
CATEGORIES:DEFAULT
END:VEVENT
BEGIN:VEVENT
DTSTART;TZID=UTC:20220318T100000
DTEND;TZID=UTC:20220318T120000
DTSTAMP:20260423T161359
CREATED:20220311T022445Z
LAST-MODIFIED:20220311T022445Z
UID:11167-1647597600-1647604800@merbaupulas.nadi.my
SUMMARY:Pertandingan Mewarna Ibu dan Anak
DESCRIPTION:
URL:https://merbaupulas.nadi.my/event/pertandingan-mewarna-ibu-dan-anak/
LOCATION:PEDi Merbau Pulas\, PEDi Merbau Pulas
CATEGORIES:DEFAULT
END:VEVENT
BEGIN:VEVENT
DTSTART;TZID=UTC:20220317T150000
DTEND;TZID=UTC:20220317T170000
DTSTAMP:20260423T161359
CREATED:20220311T022332Z
LAST-MODIFIED:20220311T022332Z
UID:11166-1647529200-1647536400@merbaupulas.nadi.my
SUMMARY:Kelas Membuat Poster
DESCRIPTION:
URL:https://merbaupulas.nadi.my/event/kelas-membuat-poster/
LOCATION:PEDi Merbau Pulas\, PEDi Merbau Pulas
CATEGORIES:DEFAULT
END:VEVENT
BEGIN:VEVENT
DTSTART;TZID=UTC:20220312T103000
DTEND;TZID=UTC:20220312T123000
DTSTAMP:20260423T161359
CREATED:20220311T022203Z
LAST-MODIFIED:20220311T022203Z
UID:11165-1647081000-1647088200@merbaupulas.nadi.my
SUMMARY:Kelas Asas Komputer
DESCRIPTION:
URL:https://merbaupulas.nadi.my/event/kelas-asas-komputer-22/
LOCATION:PEDi Merbau Pulas\, PEDi Merbau Pulas
CATEGORIES:DEFAULT
END:VEVENT
BEGIN:VEVENT
DTSTART;TZID=UTC:20220226T080000
DTEND;TZID=UTC:20220226T180000
DTSTAMP:20260423T161359
CREATED:20220129T013539Z
LAST-MODIFIED:20220129T013539Z
UID:11164-1645862400-1645898400@merbaupulas.nadi.my
SUMMARY:Kursus Pengendalian Makanan
DESCRIPTION:
URL:https://merbaupulas.nadi.my/event/kursus-pengendalian-makanan/
LOCATION:PEDi Merbau Pulas\, PEDi Merbau Pulas
CATEGORIES:DEFAULT
END:VEVENT
BEGIN:VEVENT
DTSTART;TZID=UTC:20220225T080000
DTEND;TZID=UTC:20220225T180000
DTSTAMP:20260423T161359
CREATED:20220129T013442Z
LAST-MODIFIED:20220129T013442Z
UID:11163-1645776000-1645812000@merbaupulas.nadi.my
SUMMARY:Kelas Keusahawanan (Asas Shopee)
DESCRIPTION:
URL:https://merbaupulas.nadi.my/event/kelas-keusahawanan-asas-shopee-2/
LOCATION:PEDi Merbau Pulas\, PEDi Merbau Pulas
CATEGORIES:DEFAULT
END:VEVENT
BEGIN:VEVENT
DTSTART;TZID=UTC:20220217T080000
DTEND;TZID=UTC:20220219T180000
DTSTAMP:20260423T161359
CREATED:20220129T013308Z
LAST-MODIFIED:20220129T013308Z
UID:11162-1645084800-1645293600@merbaupulas.nadi.my
SUMMARY:Kelas Komputer (Asas Excell)
DESCRIPTION:
URL:https://merbaupulas.nadi.my/event/kelas-komputer-asas-excell/
LOCATION:PEDi Merbau Pulas\, PEDi Merbau Pulas
CATEGORIES:DEFAULT
END:VEVENT
BEGIN:VEVENT
DTSTART;TZID=UTC:20220212T080000
DTEND;TZID=UTC:20220212T180000
DTSTAMP:20260423T161359
CREATED:20220129T013202Z
LAST-MODIFIED:20220129T013202Z
UID:11161-1644652800-1644688800@merbaupulas.nadi.my
SUMMARY:Kids Typing
DESCRIPTION:
URL:https://merbaupulas.nadi.my/event/kids-typing/
LOCATION:PEDi Merbau Pulas\, PEDi Merbau Pulas
CATEGORIES:DEFAULT
END:VEVENT
BEGIN:VEVENT
DTSTART;TZID=UTC:20220211T080000
DTEND;TZID=UTC:20220211T180000
DTSTAMP:20260423T161359
CREATED:20220129T013047Z
LAST-MODIFIED:20220129T013047Z
UID:11160-1644566400-1644602400@merbaupulas.nadi.my
SUMMARY:Kelas Photo Editing
DESCRIPTION:
URL:https://merbaupulas.nadi.my/event/kelas-photo-editing/
LOCATION:PEDi Merbau Pulas\, PEDi Merbau Pulas
CATEGORIES:DEFAULT
END:VEVENT
BEGIN:VEVENT
DTSTART;TZID=UTC:20220210T080000
DTEND;TZID=UTC:20220210T180000
DTSTAMP:20260423T161359
CREATED:20220129T012836Z
LAST-MODIFIED:20220129T012836Z
UID:11159-1644480000-1644516000@merbaupulas.nadi.my
SUMMARY:Kelas e-Learning (PASTI)
DESCRIPTION:
URL:https://merbaupulas.nadi.my/event/kelas-e-learning-pasti/
LOCATION:PEDi Merbau Pulas\, PEDi Merbau Pulas
CATEGORIES:DEFAULT
END:VEVENT
BEGIN:VEVENT
DTSTART;TZID=UTC:20220205T080000
DTEND;TZID=UTC:20220205T180000
DTSTAMP:20260423T161359
CREATED:20220129T012723Z
LAST-MODIFIED:20220129T012723Z
UID:11158-1644048000-1644084000@merbaupulas.nadi.my
SUMMARY:Kelas Formula Excell
DESCRIPTION:
URL:https://merbaupulas.nadi.my/event/kelas-formula-excell/
LOCATION:PEDi Merbau Pulas\, PEDi Merbau Pulas
CATEGORIES:DEFAULT
END:VEVENT
BEGIN:VEVENT
DTSTART;TZID=UTC:20220204T080000
DTEND;TZID=UTC:20220204T180000
DTSTAMP:20260423T161359
CREATED:20220129T012144Z
LAST-MODIFIED:20220129T012144Z
UID:11157-1643961600-1643997600@merbaupulas.nadi.my
SUMMARY:Kelas e-Learning Kanak-Kanak (English & Math Lesson)
DESCRIPTION:
URL:https://merbaupulas.nadi.my/event/kelas-e-learning-kanak-kanak-english-math-lesson/
LOCATION:PEDi Merbau Pulas\, PEDi Merbau Pulas
CATEGORIES:DEFAULT
END:VEVENT
BEGIN:VEVENT
DTSTART;TZID=UTC:20220201T080000
DTEND;TZID=UTC:20220228T170000
DTSTAMP:20260423T161359
CREATED:20220113T020647Z
LAST-MODIFIED:20220113T020647Z
UID:11154-1643702400-1646067600@merbaupulas.nadi.my
SUMMARY:Program e-Waste
DESCRIPTION:
URL:https://merbaupulas.nadi.my/event/program-e-waste/
LOCATION:PEDi Merbau Pulas\, PEDi Merbau Pulas
CATEGORIES:DEFAULT
END:VEVENT
BEGIN:VEVENT
DTSTART;TZID=UTC:20220122T103000
DTEND;TZID=UTC:20220122T123000
DTSTAMP:20260423T161359
CREATED:20220113T182154Z
LAST-MODIFIED:20220113T182154Z
UID:11156-1642847400-1642854600@merbaupulas.nadi.my
SUMMARY:Kelas Shopee
DESCRIPTION:
URL:https://merbaupulas.nadi.my/event/kelas-shopee-6/
LOCATION:PEDi Merbau Pulas\, PEDi Merbau Pulas
CATEGORIES:DEFAULT
END:VEVENT
BEGIN:VEVENT
DTSTART;TZID=UTC:20220121T103000
DTEND;TZID=UTC:20220121T123000
DTSTAMP:20260423T161359
CREATED:20220113T181640Z
LAST-MODIFIED:20220113T181640Z
UID:11155-1642761000-1642768200@merbaupulas.nadi.my
SUMMARY:Kelas Cara Menggunakan e-Mail
DESCRIPTION:
URL:https://merbaupulas.nadi.my/event/kelas-cara-menggunakan-e-mail/
LOCATION:PEDi Merbau Pulas\, PEDi Merbau Pulas
CATEGORIES:DEFAULT
END:VEVENT
BEGIN:VEVENT
DTSTART;TZID=UTC:20220115T103000
DTEND;TZID=UTC:20220115T123000
DTSTAMP:20260423T161359
CREATED:20220113T020331Z
LAST-MODIFIED:20220113T020331Z
UID:11153-1642242600-1642249800@merbaupulas.nadi.my
SUMMARY:Kuiz Komputer
DESCRIPTION:
URL:https://merbaupulas.nadi.my/event/kuiz-komputer/
LOCATION:PEDi Merbau Pulas\, PEDi Merbau Pulas
CATEGORIES:DEFAULT
END:VEVENT
BEGIN:VEVENT
DTSTART;TZID=UTC:20220114T103000
DTEND;TZID=UTC:20220114T123000
DTSTAMP:20260423T161359
CREATED:20220113T020048Z
LAST-MODIFIED:20220113T020048Z
UID:11152-1642156200-1642163400@merbaupulas.nadi.my
SUMMARY:Kelas e-Learning Kanak-Kanak
DESCRIPTION:
URL:https://merbaupulas.nadi.my/event/kelas-e-learning-kanak-kanak/
LOCATION:PEDi Merbau Pulas\, PEDi Merbau Pulas
CATEGORIES:DEFAULT
END:VEVENT
BEGIN:VEVENT
DTSTART;TZID=UTC:20211231T103000
DTEND;TZID=UTC:20211231T123000
DTSTAMP:20260423T161359
CREATED:20211207T001218Z
LAST-MODIFIED:20211207T001218Z
UID:11150-1640946600-1640953800@merbaupulas.nadi.my
SUMMARY:Kelas Keusahawanan
DESCRIPTION:
URL:https://merbaupulas.nadi.my/event/kelas-keusahawanan-6/
LOCATION:Bilik Latihan PIK\, Bilik Latihan PIK
CATEGORIES:DEFAULT
END:VEVENT
BEGIN:VEVENT
DTSTART;TZID=UTC:20211229T103000
DTEND;TZID=UTC:20211229T123000
DTSTAMP:20260423T161359
CREATED:20211207T000343Z
LAST-MODIFIED:20211207T000343Z
UID:11148-1640773800-1640781000@merbaupulas.nadi.my
SUMMARY:Kelas Komputer
DESCRIPTION:
URL:https://merbaupulas.nadi.my/event/kelas-komputer-21/
LOCATION:Bilik Latihan PIK\, Bilik Latihan PIK
CATEGORIES:DEFAULT
END:VEVENT
END:VCALENDAR