BEGIN:VCALENDAR
VERSION:2.0
PRODID:-//NADI Merbau Pulas - ECPv6.15.12.2//NONSGML v1.0//EN
CALSCALE:GREGORIAN
METHOD:PUBLISH
X-WR-CALNAME:NADI Merbau Pulas
X-ORIGINAL-URL:https://merbaupulas.nadi.my
X-WR-CALDESC:Events for NADI Merbau Pulas
REFRESH-INTERVAL;VALUE=DURATION:PT1H
X-Robots-Tag:noindex
X-PUBLISHED-TTL:PT1H
BEGIN:VTIMEZONE
TZID:UTC
BEGIN:STANDARD
TZOFFSETFROM:+0000
TZOFFSETTO:+0000
TZNAME:UTC
DTSTART:20200101T000000
END:STANDARD
END:VTIMEZONE
BEGIN:VEVENT
DTSTART;TZID=UTC:20211113T100000
DTEND;TZID=UTC:20211113T120000
DTSTAMP:20260424T223602
CREATED:20211109T024549Z
LAST-MODIFIED:20211109T024549Z
UID:11137-1636797600-1636804800@merbaupulas.nadi.my
SUMMARY:Kelas E-Learning
DESCRIPTION:
URL:https://merbaupulas.nadi.my/event/kelas-e-learning-4/
LOCATION:PIK M.Pulas\, PIK M.Pulas
CATEGORIES:DEFAULT
END:VEVENT
BEGIN:VEVENT
DTSTART;TZID=UTC:20211112T100000
DTEND;TZID=UTC:20211112T120000
DTSTAMP:20260424T223602
CREATED:20211109T024433Z
LAST-MODIFIED:20211109T024433Z
UID:11136-1636711200-1636718400@merbaupulas.nadi.my
SUMMARY:Kelas Komputer
DESCRIPTION:
URL:https://merbaupulas.nadi.my/event/kelas-komputer-19/
LOCATION:PIK M.Pulas\, PIK M.Pulas
CATEGORIES:DEFAULT
END:VEVENT
BEGIN:VEVENT
DTSTART;TZID=UTC:20211109T100000
DTEND;TZID=UTC:20211109T170000
DTSTAMP:20260424T223602
CREATED:20211108T231846Z
LAST-MODIFIED:20211108T231846Z
UID:11135-1636452000-1636477200@merbaupulas.nadi.my
SUMMARY:Pertandingan Mewarna Sempena Deepavali
DESCRIPTION:
URL:https://merbaupulas.nadi.my/event/pertandingan-mewarna-sempena-deepavali/
LOCATION:PIK M.Pulas\, PIK M.Pulas
CATEGORIES:DEFAULT
END:VEVENT
BEGIN:VEVENT
DTSTART;TZID=UTC:20211029T100000
DTEND;TZID=UTC:20211029T120000
DTSTAMP:20260424T223602
CREATED:20210930T010412Z
LAST-MODIFIED:20210930T010412Z
UID:11133-1635501600-1635508800@merbaupulas.nadi.my
SUMMARY:Kelas Komputer
DESCRIPTION:
URL:https://merbaupulas.nadi.my/event/kelas-komputer-18/
LOCATION:PIK Merbau Pulas\, PIK Merbau Pulas
CATEGORIES:DEFAULT
END:VEVENT
BEGIN:VEVENT
DTSTART;TZID=UTC:20211023T100000
DTEND;TZID=UTC:20211023T120000
DTSTAMP:20260424T223602
CREATED:20210930T005919Z
LAST-MODIFIED:20210930T005919Z
UID:11132-1634983200-1634990400@merbaupulas.nadi.my
SUMMARY:Kelas Keusahawanan (Asas Shopee)
DESCRIPTION:
URL:https://merbaupulas.nadi.my/event/kelas-keusahawanan-asas-shopee/
LOCATION:PIK Merbau Pulas\, PIK Merbau Pulas
CATEGORIES:DEFAULT
END:VEVENT
BEGIN:VEVENT
DTSTART;TZID=UTC:20211022T100000
DTEND;TZID=UTC:20211022T120000
DTSTAMP:20260424T223602
CREATED:20210930T005839Z
LAST-MODIFIED:20210930T005839Z
UID:11131-1634896800-1634904000@merbaupulas.nadi.my
SUMMARY:Pertandingan Jigsaw Puzzle & Crossword Online
DESCRIPTION:
URL:https://merbaupulas.nadi.my/event/pertandingan-jigsaw-puzzle-crossword-online/
LOCATION:PIK Merbau Pulas\, PIK Merbau Pulas
CATEGORIES:DEFAULT
END:VEVENT
BEGIN:VEVENT
DTSTART;TZID=UTC:20211016T100000
DTEND;TZID=UTC:20211016T120000
DTSTAMP:20260424T223602
CREATED:20210930T005801Z
LAST-MODIFIED:20210930T005801Z
UID:11130-1634378400-1634385600@merbaupulas.nadi.my
SUMMARY:Kelas E-Pembelajaran
DESCRIPTION:
URL:https://merbaupulas.nadi.my/event/kelas-e-pembelajaran-15/
LOCATION:PIK Merbau Pulas\, PIK Merbau Pulas
CATEGORIES:DEFAULT
END:VEVENT
BEGIN:VEVENT
DTSTART;TZID=UTC:20211015T100000
DTEND;TZID=UTC:20211015T120000
DTSTAMP:20260424T223602
CREATED:20210930T005719Z
LAST-MODIFIED:20210930T005719Z
UID:11129-1634292000-1634299200@merbaupulas.nadi.my
SUMMARY:Kelas Komputer
DESCRIPTION:
URL:https://merbaupulas.nadi.my/event/kelas-komputer-17/
LOCATION:PIK Merbau Pulas\, PIK Merbau Pulas
CATEGORIES:DEFAULT
END:VEVENT
BEGIN:VEVENT
DTSTART;TZID=UTC:20211009T100000
DTEND;TZID=UTC:20211009T120000
DTSTAMP:20260424T223602
CREATED:20210930T005646Z
LAST-MODIFIED:20210930T005646Z
UID:11128-1633773600-1633780800@merbaupulas.nadi.my
SUMMARY:Kuiz Advokasi
DESCRIPTION:
URL:https://merbaupulas.nadi.my/event/kuiz-advokasi/
LOCATION:PIK Merbau Pulas\, PIK Merbau Pulas
CATEGORIES:DEFAULT
END:VEVENT
BEGIN:VEVENT
DTSTART;TZID=UTC:20211008T100000
DTEND;TZID=UTC:20211008T120000
DTSTAMP:20260424T223602
CREATED:20210930T005615Z
LAST-MODIFIED:20210930T005615Z
UID:11127-1633687200-1633694400@merbaupulas.nadi.my
SUMMARY:Kuiz ICT
DESCRIPTION:
URL:https://merbaupulas.nadi.my/event/kuiz-ict/
LOCATION:PIK Merbau Pulas\, PIK Merbau Pulas
CATEGORIES:DEFAULT
END:VEVENT
BEGIN:VEVENT
DTSTART;TZID=UTC:20210924T100000
DTEND;TZID=UTC:20210924T120000
DTSTAMP:20260424T223602
CREATED:20210906T205433Z
LAST-MODIFIED:20210906T205433Z
UID:11126-1632477600-1632484800@merbaupulas.nadi.my
SUMMARY:Word Search Asas Komputer
DESCRIPTION:
URL:https://merbaupulas.nadi.my/event/word-search-asas-komputer/
LOCATION:PIK Merbau Pulas\, PIK Merbau Pulas
CATEGORIES:DEFAULT
END:VEVENT
BEGIN:VEVENT
DTSTART;TZID=UTC:20210918T100000
DTEND;TZID=UTC:20210918T120000
DTSTAMP:20260424T223602
CREATED:20210906T205400Z
LAST-MODIFIED:20210906T205400Z
UID:11125-1631959200-1631966400@merbaupulas.nadi.my
SUMMARY:Kuiz KDB
DESCRIPTION:
URL:https://merbaupulas.nadi.my/event/kuiz-kdb-4/
LOCATION:PIK Merbau Pulas\, PIK Merbau Pulas
CATEGORIES:DEFAULT
END:VEVENT
BEGIN:VEVENT
DTSTART;TZID=UTC:20210917T100000
DTEND;TZID=UTC:20210917T120000
DTSTAMP:20260424T223602
CREATED:20210906T205333Z
LAST-MODIFIED:20210906T205333Z
UID:11124-1631872800-1631880000@merbaupulas.nadi.my
SUMMARY:Pertandingan Mewarna Kanak-Kanak (Hari Malaysia)
DESCRIPTION:
URL:https://merbaupulas.nadi.my/event/pertandingan-mewarna-kanak-kanak-hari-malaysia/
LOCATION:PIK Merbau Pulas\, PIK Merbau Pulas
CATEGORIES:DEFAULT
END:VEVENT
BEGIN:VEVENT
DTSTART;TZID=UTC:20210911T100000
DTEND;TZID=UTC:20210911T120000
DTSTAMP:20260424T223602
CREATED:20210906T205245Z
LAST-MODIFIED:20210906T205245Z
UID:11123-1631354400-1631361600@merbaupulas.nadi.my
SUMMARY:Kuiz Cyber Security
DESCRIPTION:
URL:https://merbaupulas.nadi.my/event/kuiz-cyber-security/
LOCATION:PIK Merbau Pulas\, PIK Merbau Pulas
CATEGORIES:DEFAULT
END:VEVENT
BEGIN:VEVENT
DTSTART;TZID=UTC:20210910T100000
DTEND;TZID=UTC:20210910T120000
DTSTAMP:20260424T223602
CREATED:20210906T205210Z
LAST-MODIFIED:20210906T205210Z
UID:11122-1631268000-1631275200@merbaupulas.nadi.my
SUMMARY:Kuiz Hari Malaysia Online
DESCRIPTION:
URL:https://merbaupulas.nadi.my/event/kuiz-hari-malaysia-online/
LOCATION:PIK Merbau Pulas\, PIK Merbau Pulas
CATEGORIES:DEFAULT
END:VEVENT
BEGIN:VEVENT
DTSTART;TZID=UTC:20210909T000000
DTEND;TZID=UTC:20210916T235959
DTSTAMP:20260424T223602
CREATED:20210906T205135Z
LAST-MODIFIED:20210906T205135Z
UID:11121-1631145600-1631836799@merbaupulas.nadi.my
SUMMARY:Pertandingan Selfie@Kreatif Hari Malaysia
DESCRIPTION:
URL:https://merbaupulas.nadi.my/event/pertandingan-selfiekreatif-hari-malaysia/
LOCATION:PIK Merbau Pulas\, PIK Merbau Pulas
CATEGORIES:DEFAULT
END:VEVENT
BEGIN:VEVENT
DTSTART;TZID=UTC:20210327T100000
DTEND;TZID=UTC:20210327T120000
DTSTAMP:20260424T223602
CREATED:20210303T183306Z
LAST-MODIFIED:20210303T183306Z
UID:11119-1616839200-1616846400@merbaupulas.nadi.my
SUMMARY:Kelas Asas Adobe Photoshop
DESCRIPTION:
URL:https://merbaupulas.nadi.my/event/kelas-asas-adobe-photoshop/
LOCATION:PI Merbau Pulas\, PI Merbau Pulas
CATEGORIES:DEFAULT
END:VEVENT
BEGIN:VEVENT
DTSTART;TZID=UTC:20210326T100000
DTEND;TZID=UTC:20210326T120000
DTSTAMP:20260424T223602
CREATED:20210303T183201Z
LAST-MODIFIED:20210303T183201Z
UID:11118-1616752800-1616760000@merbaupulas.nadi.my
SUMMARY:Kelas Shopee
DESCRIPTION:
URL:https://merbaupulas.nadi.my/event/kelas-shopee-5/
LOCATION:PI Merbau Pulas\, PI Merbau Pulas
CATEGORIES:DEFAULT
END:VEVENT
BEGIN:VEVENT
DTSTART;TZID=UTC:20210325T100000
DTEND;TZID=UTC:20210325T120000
DTSTAMP:20260424T223602
CREATED:20210303T183127Z
LAST-MODIFIED:20210303T183127Z
UID:11117-1616666400-1616673600@merbaupulas.nadi.my
SUMMARY:Kelas E-Learning
DESCRIPTION:
URL:https://merbaupulas.nadi.my/event/kelas-e-learning-3/
LOCATION:PI Merbau Pulas\, PI Merbau Pulas
CATEGORIES:DEFAULT
END:VEVENT
BEGIN:VEVENT
DTSTART;TZID=UTC:20210320T100000
DTEND;TZID=UTC:20210320T120000
DTSTAMP:20260424T223602
CREATED:20210303T183054Z
LAST-MODIFIED:20210303T183054Z
UID:11116-1616234400-1616241600@merbaupulas.nadi.my
SUMMARY:Kelas Komputer bersama Kumpulan Gamma
DESCRIPTION:
URL:https://merbaupulas.nadi.my/event/kelas-komputer-bersama-kumpulan-gamma-2/
LOCATION:PI Merbau Pulas\, PI Merbau Pulas
CATEGORIES:DEFAULT
END:VEVENT
BEGIN:VEVENT
DTSTART;TZID=UTC:20210319T150000
DTEND;TZID=UTC:20210319T170000
DTSTAMP:20260424T223602
CREATED:20210303T183017Z
LAST-MODIFIED:20210303T183017Z
UID:11115-1616166000-1616173200@merbaupulas.nadi.my
SUMMARY:Kelas Komputer bersama Kumpulan Beta
DESCRIPTION:
URL:https://merbaupulas.nadi.my/event/kelas-komputer-bersama-kumpulan-beta-2/
LOCATION:PI Merbau Pulas\, PI Merbau Pulas
CATEGORIES:DEFAULT
END:VEVENT
BEGIN:VEVENT
DTSTART;TZID=UTC:20210319T100000
DTEND;TZID=UTC:20210319T120000
DTSTAMP:20260424T223602
CREATED:20210303T182926Z
LAST-MODIFIED:20210303T182926Z
UID:11114-1616148000-1616155200@merbaupulas.nadi.my
SUMMARY:Kelas Komputer bersama Kumpulan Alpha
DESCRIPTION:
URL:https://merbaupulas.nadi.my/event/kelas-komputer-bersama-kumpulan-alpha-2/
LOCATION:PI Merbau Pulas\, PI Merbau Pulas
CATEGORIES:DEFAULT
END:VEVENT
BEGIN:VEVENT
DTSTART;TZID=UTC:20210318T100000
DTEND;TZID=UTC:20210318T120000
DTSTAMP:20260424T223602
CREATED:20210303T182830Z
LAST-MODIFIED:20210303T182830Z
UID:11113-1616061600-1616068800@merbaupulas.nadi.my
SUMMARY:Kelas Mengisi Kemasukan Pra Sekolah
DESCRIPTION:
URL:https://merbaupulas.nadi.my/event/kelas-mengisi-kemasukan-pra-sekolah/
LOCATION:PI Merbau Pulas\, PI Merbau Pulas
CATEGORIES:DEFAULT
END:VEVENT
BEGIN:VEVENT
DTSTART;TZID=UTC:20210313T100000
DTEND;TZID=UTC:20210313T120000
DTSTAMP:20260424T223602
CREATED:20210303T182730Z
LAST-MODIFIED:20210303T182730Z
UID:11112-1615629600-1615636800@merbaupulas.nadi.my
SUMMARY:Kuiz KDB & Advokasi
DESCRIPTION:
URL:https://merbaupulas.nadi.my/event/kuiz-kdb-advokasi-4/
LOCATION:PI Merbau Pulas\, PI Merbau Pulas
CATEGORIES:DEFAULT
END:VEVENT
BEGIN:VEVENT
DTSTART;TZID=UTC:20210312T100000
DTEND;TZID=UTC:20210312T120000
DTSTAMP:20260424T223602
CREATED:20210303T174632Z
LAST-MODIFIED:20210303T174632Z
UID:11111-1615543200-1615550400@merbaupulas.nadi.my
SUMMARY:Panduan Mengisi Kemasukan Tahun 1
DESCRIPTION:
URL:https://merbaupulas.nadi.my/event/panduan-mengisi-kemasukan-tahun-1/
LOCATION:PI Merbau Pulas\, PI Merbau Pulas
CATEGORIES:DEFAULT
END:VEVENT
BEGIN:VEVENT
DTSTART;TZID=UTC:20210306T100000
DTEND;TZID=UTC:20210306T120000
DTSTAMP:20260424T223602
CREATED:20210303T174546Z
LAST-MODIFIED:20210303T174546Z
UID:11110-1615024800-1615032000@merbaupulas.nadi.my
SUMMARY:Kelas Komputer
DESCRIPTION:
URL:https://merbaupulas.nadi.my/event/kelas-komputer-16/
LOCATION:PI Merbau Pulas\, PI Merbau Pulas
CATEGORIES:DEFAULT
END:VEVENT
BEGIN:VEVENT
DTSTART;TZID=UTC:20210301T000000
DTEND;TZID=UTC:20210331T235959
DTSTAMP:20260424T223602
CREATED:20210303T174400Z
LAST-MODIFIED:20210303T174400Z
UID:11109-1614556800-1617235199@merbaupulas.nadi.my
SUMMARY:Program Mobile E-Waste
DESCRIPTION:
URL:https://merbaupulas.nadi.my/event/program-mobile-e-waste-18/
LOCATION:PI Merbau Pulas\, PI Merbau Pulas
CATEGORIES:DEFAULT
END:VEVENT
BEGIN:VEVENT
DTSTART;TZID=UTC:20210227T150000
DTEND;TZID=UTC:20210227T170000
DTSTAMP:20260424T223602
CREATED:20210219T013853Z
LAST-MODIFIED:20210219T013853Z
UID:11108-1614438000-1614445200@merbaupulas.nadi.my
SUMMARY:Kelas Shopee
DESCRIPTION:
URL:https://merbaupulas.nadi.my/event/kelas-shopee-4/
LOCATION:PI Merbau Pulas\, PI Merbau Pulas
CATEGORIES:DEFAULT
END:VEVENT
BEGIN:VEVENT
DTSTART;TZID=UTC:20210226T100000
DTEND;TZID=UTC:20210226T120000
DTSTAMP:20260424T223602
CREATED:20210219T013825Z
LAST-MODIFIED:20210219T013825Z
UID:11107-1614333600-1614340800@merbaupulas.nadi.my
SUMMARY:Kelas Komputer
DESCRIPTION:
URL:https://merbaupulas.nadi.my/event/kelas-komputer-15/
LOCATION:PI Merbau Pulas\, PI Merbau Pulas
CATEGORIES:DEFAULT
END:VEVENT
BEGIN:VEVENT
DTSTART;TZID=UTC:20210225T150000
DTEND;TZID=UTC:20210225T170000
DTSTAMP:20260424T223602
CREATED:20210219T013720Z
LAST-MODIFIED:20210219T013720Z
UID:11106-1614265200-1614272400@merbaupulas.nadi.my
SUMMARY:Kelas Komputer bersama Kumpulan Gamma
DESCRIPTION:
URL:https://merbaupulas.nadi.my/event/kelas-komputer-bersama-kumpulan-gamma/
LOCATION:PI Merbau Pulas\, PI Merbau Pulas
CATEGORIES:DEFAULT
END:VEVENT
END:VCALENDAR