BEGIN:VCALENDAR
VERSION:2.0
PRODID:-//NADI Merbau Pulas - ECPv6.15.12.2//NONSGML v1.0//EN
CALSCALE:GREGORIAN
METHOD:PUBLISH
X-WR-CALNAME:NADI Merbau Pulas
X-ORIGINAL-URL:https://merbaupulas.nadi.my
X-WR-CALDESC:Events for NADI Merbau Pulas
REFRESH-INTERVAL;VALUE=DURATION:PT1H
X-Robots-Tag:noindex
X-PUBLISHED-TTL:PT1H
BEGIN:VTIMEZONE
TZID:UTC
BEGIN:STANDARD
TZOFFSETFROM:+0000
TZOFFSETTO:+0000
TZNAME:UTC
DTSTART:20230101T000000
END:STANDARD
END:VTIMEZONE
BEGIN:VEVENT
DTSTART;TZID=UTC:20240302T103000
DTEND;TZID=UTC:20240302T123000
DTSTAMP:20260420T074603
CREATED:20240307T002154Z
LAST-MODIFIED:20240307T002154Z
UID:11445-1709375400-1709382600@merbaupulas.nadi.my
SUMMARY:Pengenalan AI
DESCRIPTION:
URL:https://merbaupulas.nadi.my/event/pengenalan-ai/
LOCATION:PEDi Merbau Pulas\, PEDi Merbau Pulas
CATEGORIES:DEFAULT
END:VEVENT
BEGIN:VEVENT
DTSTART;TZID=UTC:20240303T093000
DTEND;TZID=UTC:20240303T123000
DTSTAMP:20260420T074603
CREATED:20240309T032739Z
LAST-MODIFIED:20240309T032739Z
UID:11446-1709458200-1709469000@merbaupulas.nadi.my
SUMMARY:Kursus Pengendali Makanan
DESCRIPTION:
URL:https://merbaupulas.nadi.my/event/kursus-pengendali-makanan-3/
LOCATION:PEDi Merbau Pulas\, PEDi Merbau Pulas
CATEGORIES:DEFAULT
END:VEVENT
BEGIN:VEVENT
DTSTART;TZID=UTC:20240306T103000
DTEND;TZID=UTC:20240306T123000
DTSTAMP:20260420T074603
CREATED:20240309T032834Z
LAST-MODIFIED:20240309T032834Z
UID:11447-1709721000-1709728200@merbaupulas.nadi.my
SUMMARY:Jengga Challange
DESCRIPTION:
URL:https://merbaupulas.nadi.my/event/jengga-challange/
LOCATION:PEDi Merbau Pulas\, PEDi Merbau Pulas
CATEGORIES:DEFAULT
END:VEVENT
BEGIN:VEVENT
DTSTART;TZID=UTC:20240307T103000
DTEND;TZID=UTC:20240307T123000
DTSTAMP:20260420T074603
CREATED:20240309T032934Z
LAST-MODIFIED:20240309T032934Z
UID:11448-1709807400-1709814600@merbaupulas.nadi.my
SUMMARY:Kelas komputer
DESCRIPTION:
URL:https://merbaupulas.nadi.my/event/kelas-komputer-43/
LOCATION:PEDi Merbau Pulas\, PEDi Merbau Pulas
CATEGORIES:DEFAULT
END:VEVENT
BEGIN:VEVENT
DTSTART;TZID=UTC:20240309T103000
DTEND;TZID=UTC:20240309T123000
DTSTAMP:20260420T074603
CREATED:20240309T033128Z
LAST-MODIFIED:20240309T033128Z
UID:11449-1709980200-1709987400@merbaupulas.nadi.my
SUMMARY:Kuiz Ihya Ramadan
DESCRIPTION:
URL:https://merbaupulas.nadi.my/event/kuiz-ihya-ramadan/
LOCATION:PEDi Merbau Pulas\, PEDi Merbau Pulas
CATEGORIES:DEFAULT
END:VEVENT
BEGIN:VEVENT
DTSTART;TZID=UTC:20240311T103000
DTEND;TZID=UTC:20240311T123000
DTSTAMP:20260420T074603
CREATED:20240309T033228Z
LAST-MODIFIED:20240309T033228Z
UID:11450-1710153000-1710160200@merbaupulas.nadi.my
SUMMARY:Kelas CANVA
DESCRIPTION:
URL:https://merbaupulas.nadi.my/event/kelas-canva-3/
LOCATION:PEDi Merbau Pulas\, PEDi Merbau Pulas
CATEGORIES:DEFAULT
END:VEVENT
BEGIN:VEVENT
DTSTART;TZID=UTC:20240315T103000
DTEND;TZID=UTC:20240315T123000
DTSTAMP:20260420T074603
CREATED:20240309T033454Z
LAST-MODIFIED:20240309T033454Z
UID:11451-1710498600-1710505800@merbaupulas.nadi.my
SUMMARY:Pertandingan Mewarna
DESCRIPTION:
URL:https://merbaupulas.nadi.my/event/pertandingan-mewarna-3/
LOCATION:PEDi Merbau Pulas\, PEDi Merbau Pulas
CATEGORIES:DEFAULT
END:VEVENT
BEGIN:VEVENT
DTSTART;TZID=UTC:20240316T103000
DTEND;TZID=UTC:20240316T123000
DTSTAMP:20260420T074603
CREATED:20240309T033540Z
LAST-MODIFIED:20240309T033540Z
UID:11452-1710585000-1710592200@merbaupulas.nadi.my
SUMMARY:STEM-Telur Terapung
DESCRIPTION:
URL:https://merbaupulas.nadi.my/event/stem-telur-terapung/
LOCATION:PEDi Merbau Pulas\, PEDi Merbau Pulas
CATEGORIES:DEFAULT
END:VEVENT
BEGIN:VEVENT
DTSTART;TZID=UTC:20240317T103000
DTEND;TZID=UTC:20240317T123000
DTSTAMP:20260420T074603
CREATED:20240309T033645Z
LAST-MODIFIED:20240309T033645Z
UID:11453-1710671400-1710678600@merbaupulas.nadi.my
SUMMARY:Kelas Keusahawanan-Pengenalan AI
DESCRIPTION:
URL:https://merbaupulas.nadi.my/event/kelas-keusahawanan-pengenalan-ai/
LOCATION:PEDi Merbau Pulas\, PEDi Merbau Pulas
CATEGORIES:DEFAULT
END:VEVENT
BEGIN:VEVENT
DTSTART;TZID=UTC:20240321T150000
DTEND;TZID=UTC:20240321T170000
DTSTAMP:20260420T074603
CREATED:20240309T033940Z
LAST-MODIFIED:20240309T033940Z
UID:11456-1711033200-1711040400@merbaupulas.nadi.my
SUMMARY:STEM-Walking water
DESCRIPTION:
URL:https://merbaupulas.nadi.my/event/stem-walking-water/
LOCATION:PEDi Merbau Pulas\, PEDi Merbau Pulas
CATEGORIES:DEFAULT
END:VEVENT
BEGIN:VEVENT
DTSTART;TZID=UTC:20240322T080000
DTEND;TZID=UTC:20240322T170000
DTSTAMP:20260420T074603
CREATED:20240309T033850Z
LAST-MODIFIED:20240309T033850Z
UID:11455-1711094400-1711126800@merbaupulas.nadi.my
SUMMARY:Kelas Pendaftaran SSM
DESCRIPTION:
URL:https://merbaupulas.nadi.my/event/kelas-pendaftaran-ssm/
LOCATION:PEDi Merbau Pulas\, PEDi Merbau Pulas
CATEGORIES:DEFAULT
END:VEVENT
BEGIN:VEVENT
DTSTART;TZID=UTC:20240323T103000
DTEND;TZID=UTC:20240323T123000
DTSTAMP:20260420T074603
CREATED:20240309T033752Z
LAST-MODIFIED:20240309T033752Z
UID:11454-1711189800-1711197000@merbaupulas.nadi.my
SUMMARY:Kelas Resume
DESCRIPTION:
URL:https://merbaupulas.nadi.my/event/kelas-resume-2/
LOCATION:PEDi Merbau Pulas\, PEDi Merbau Pulas
CATEGORIES:DEFAULT
END:VEVENT
END:VCALENDAR