BEGIN:VCALENDAR
VERSION:2.0
PRODID:-//NADI Merbau Pulas - ECPv6.15.12.2//NONSGML v1.0//EN
CALSCALE:GREGORIAN
METHOD:PUBLISH
X-WR-CALNAME:NADI Merbau Pulas
X-ORIGINAL-URL:https://merbaupulas.nadi.my
X-WR-CALDESC:Events for NADI Merbau Pulas
REFRESH-INTERVAL;VALUE=DURATION:PT1H
X-Robots-Tag:noindex
X-PUBLISHED-TTL:PT1H
BEGIN:VTIMEZONE
TZID:UTC
BEGIN:STANDARD
TZOFFSETFROM:+0000
TZOFFSETTO:+0000
TZNAME:UTC
DTSTART:20230101T000000
END:STANDARD
END:VTIMEZONE
BEGIN:VEVENT
DTSTART;TZID=UTC:20240504T103000
DTEND;TZID=UTC:20240504T123000
DTSTAMP:20260420T112454
CREATED:20240508T224153Z
LAST-MODIFIED:20240508T224153Z
UID:11476-1714818600-1714825800@merbaupulas.nadi.my
SUMMARY:Kelas E-Laerning Tahap 1
DESCRIPTION:
URL:https://merbaupulas.nadi.my/event/kelas-e-laerning-tahap-1/
LOCATION:NADI MERBAU PULAS\, NADI MERBAU PULAS
CATEGORIES:DEFAULT
END:VEVENT
BEGIN:VEVENT
DTSTART;TZID=UTC:20240510T103000
DTEND;TZID=UTC:20240510T123000
DTSTAMP:20260420T112454
CREATED:20240509T020806Z
LAST-MODIFIED:20240509T020806Z
UID:11477-1715337000-1715344200@merbaupulas.nadi.my
SUMMARY:KELAS KOMPUTER
DESCRIPTION:
URL:https://merbaupulas.nadi.my/event/kelas-komputer-44/
LOCATION:NADI MERBAU PULAS\, NADI MERBAU PULAS
CATEGORIES:DEFAULT
END:VEVENT
BEGIN:VEVENT
DTSTART;TZID=UTC:20240511T103000
DTEND;TZID=UTC:20240511T123000
DTSTAMP:20260420T112454
CREATED:20240510T010659Z
LAST-MODIFIED:20240510T010659Z
UID:11478-1715423400-1715430600@merbaupulas.nadi.my
SUMMARY:Kelas Power Point
DESCRIPTION:
URL:https://merbaupulas.nadi.my/event/kelas-power-point/
LOCATION:NADI MERBAU PULAS\, NADI MERBAU PULAS
CATEGORIES:DEFAULT
END:VEVENT
BEGIN:VEVENT
DTSTART;TZID=UTC:20240515T080000
DTEND;TZID=UTC:20240515T130000
DTSTAMP:20260420T112454
CREATED:20240510T021933Z
LAST-MODIFIED:20240510T021933Z
UID:11480-1715760000-1715778000@merbaupulas.nadi.my
SUMMARY:Program KDB dan Advokasi Sempena Hari Belia Negara
DESCRIPTION:
URL:https://merbaupulas.nadi.my/event/program-kdb-dan-advokasi-sempena-hari-belia-negara/
LOCATION:SMK Tanjung Puteri\, SMK Tanjung Puteri
CATEGORIES:DEFAULT
END:VEVENT
BEGIN:VEVENT
DTSTART;TZID=UTC:20240516T103000
DTEND;TZID=UTC:20240516T123000
DTSTAMP:20260420T112454
CREATED:20240510T022032Z
LAST-MODIFIED:20240510T022032Z
UID:11490-1715855400-1715862600@merbaupulas.nadi.my
SUMMARY:Pengenalan Affiliate Shopee
DESCRIPTION:
URL:https://merbaupulas.nadi.my/event/pengenalan-affiliate-shopee-2/
LOCATION:NADI MERBAU PULAS\, NADI MERBAU PULAS
CATEGORIES:DEFAULT
END:VEVENT
BEGIN:VEVENT
DTSTART;TZID=UTC:20240516T103000
DTEND;TZID=UTC:20240516T123000
DTSTAMP:20260420T112454
CREATED:20240510T022032Z
LAST-MODIFIED:20240510T022032Z
UID:11481-1715855400-1715862600@merbaupulas.nadi.my
SUMMARY:Pengenalan Affiliate Shopee
DESCRIPTION:
URL:https://merbaupulas.nadi.my/event/pengenalan-affiliate-shopee/
LOCATION:NADI MERBAU PULAS\, NADI MERBAU PULAS
CATEGORIES:DEFAULT
END:VEVENT
BEGIN:VEVENT
DTSTART;TZID=UTC:20240516T150000
DTEND;TZID=UTC:20240516T170000
DTSTAMP:20260420T112454
CREATED:20240510T024245Z
LAST-MODIFIED:20240510T024245Z
UID:11482-1715871600-1715878800@merbaupulas.nadi.my
SUMMARY:Kelas Resume
DESCRIPTION:
URL:https://merbaupulas.nadi.my/event/kelas-resume-3/
LOCATION:NADI MERBAU PULAS\, NADI MERBAU PULAS
CATEGORIES:DEFAULT
END:VEVENT
BEGIN:VEVENT
DTSTART;TZID=UTC:20240516T150000
DTEND;TZID=UTC:20240516T170000
DTSTAMP:20260420T112454
CREATED:20240510T024245Z
LAST-MODIFIED:20240510T024245Z
UID:11491-1715871600-1715878800@merbaupulas.nadi.my
SUMMARY:Kelas Resume
DESCRIPTION:
URL:https://merbaupulas.nadi.my/event/kelas-resume-4/
LOCATION:NADI MERBAU PULAS\, NADI MERBAU PULAS
CATEGORIES:DEFAULT
END:VEVENT
BEGIN:VEVENT
DTSTART;TZID=UTC:20240517T103000
DTEND;TZID=UTC:20240517T123000
DTSTAMP:20260420T112454
CREATED:20240510T024537Z
LAST-MODIFIED:20240510T024537Z
UID:11483-1715941800-1715949000@merbaupulas.nadi.my
SUMMARY:STEM-Cup Stacking
DESCRIPTION:
URL:https://merbaupulas.nadi.my/event/stem-cup-stacking/
LOCATION:NADI MERBAU PULAS\, NADI MERBAU PULAS
CATEGORIES:DEFAULT
END:VEVENT
BEGIN:VEVENT
DTSTART;TZID=UTC:20240517T103000
DTEND;TZID=UTC:20240517T123000
DTSTAMP:20260420T112454
CREATED:20240510T024537Z
LAST-MODIFIED:20240510T024537Z
UID:11492-1715941800-1715949000@merbaupulas.nadi.my
SUMMARY:STEM-Cup Stacking
DESCRIPTION:
URL:https://merbaupulas.nadi.my/event/stem-cup-stacking-2/
LOCATION:NADI MERBAU PULAS\, NADI MERBAU PULAS
CATEGORIES:DEFAULT
END:VEVENT
BEGIN:VEVENT
DTSTART;TZID=UTC:20240518T103000
DTEND;TZID=UTC:20240518T123000
DTSTAMP:20260420T112454
CREATED:20240510T024728Z
LAST-MODIFIED:20240510T024728Z
UID:11484-1716028200-1716035400@merbaupulas.nadi.my
SUMMARY:STEM-Walking Water
DESCRIPTION:
URL:https://merbaupulas.nadi.my/event/stem-walking-water-2/
LOCATION:NADI MERBAU PULAS\, NADI MERBAU PULAS
CATEGORIES:DEFAULT
END:VEVENT
BEGIN:VEVENT
DTSTART;TZID=UTC:20240518T103000
DTEND;TZID=UTC:20240518T123000
DTSTAMP:20260420T112454
CREATED:20240510T024728Z
LAST-MODIFIED:20240510T024728Z
UID:11493-1716028200-1716035400@merbaupulas.nadi.my
SUMMARY:STEM-Walking Water
DESCRIPTION:
URL:https://merbaupulas.nadi.my/event/stem-walking-water-3/
LOCATION:NADI MERBAU PULAS\, NADI MERBAU PULAS
CATEGORIES:DEFAULT
END:VEVENT
BEGIN:VEVENT
DTSTART;TZID=UTC:20240518T150000
DTEND;TZID=UTC:20240518T170000
DTSTAMP:20260420T112454
CREATED:20240510T024857Z
LAST-MODIFIED:20240510T024857Z
UID:11494-1716044400-1716051600@merbaupulas.nadi.my
SUMMARY:Kelas Pengenalan AI
DESCRIPTION:
URL:https://merbaupulas.nadi.my/event/kelas-pengenalan-ai-2/
LOCATION:NADI MERBAU PULAS\, NADI MERBAU PULAS
CATEGORIES:DEFAULT
END:VEVENT
BEGIN:VEVENT
DTSTART;TZID=UTC:20240518T150000
DTEND;TZID=UTC:20240518T170000
DTSTAMP:20260420T112454
CREATED:20240510T024857Z
LAST-MODIFIED:20240510T024857Z
UID:11485-1716044400-1716051600@merbaupulas.nadi.my
SUMMARY:Kelas Pengenalan AI
DESCRIPTION:
URL:https://merbaupulas.nadi.my/event/kelas-pengenalan-ai/
LOCATION:NADI MERBAU PULAS\, NADI MERBAU PULAS
CATEGORIES:DEFAULT
END:VEVENT
BEGIN:VEVENT
DTSTART;TZID=UTC:20240520T103000
DTEND;TZID=UTC:20240520T120000
DTSTAMP:20260420T112454
CREATED:20240510T025050Z
LAST-MODIFIED:20240510T025050Z
UID:11495-1716201000-1716206400@merbaupulas.nadi.my
SUMMARY:Scratch Program
DESCRIPTION:
URL:https://merbaupulas.nadi.my/event/scratch-program-2/
LOCATION:NADI MERBAU PULAS\, NADI MERBAU PULAS
CATEGORIES:DEFAULT
END:VEVENT
BEGIN:VEVENT
DTSTART;TZID=UTC:20240520T103000
DTEND;TZID=UTC:20240520T120000
DTSTAMP:20260420T112454
CREATED:20240510T025050Z
LAST-MODIFIED:20240510T025050Z
UID:11486-1716201000-1716206400@merbaupulas.nadi.my
SUMMARY:Scratch Program
DESCRIPTION:
URL:https://merbaupulas.nadi.my/event/scratch-program/
LOCATION:NADI MERBAU PULAS\, NADI MERBAU PULAS
CATEGORIES:DEFAULT
END:VEVENT
BEGIN:VEVENT
DTSTART;TZID=UTC:20240524T100000
DTEND;TZID=UTC:20240524T130000
DTSTAMP:20260420T112454
CREATED:20240510T025150Z
LAST-MODIFIED:20240510T025150Z
UID:11496-1716544800-1716555600@merbaupulas.nadi.my
SUMMARY:Videoshoot Produk Usahawan
DESCRIPTION:
URL:https://merbaupulas.nadi.my/event/videoshoot-produk-usahawan-2/
LOCATION:Baling\, Baling
CATEGORIES:DEFAULT
END:VEVENT
BEGIN:VEVENT
DTSTART;TZID=UTC:20240524T100000
DTEND;TZID=UTC:20240524T130000
DTSTAMP:20260420T112454
CREATED:20240510T025150Z
LAST-MODIFIED:20240510T025150Z
UID:11488-1716544800-1716555600@merbaupulas.nadi.my
SUMMARY:Videoshoot Produk Usahawan
DESCRIPTION:
URL:https://merbaupulas.nadi.my/event/videoshoot-produk-usahawan/
LOCATION:Baling\, Baling
CATEGORIES:DEFAULT
END:VEVENT
BEGIN:VEVENT
DTSTART;TZID=UTC:20240525T103000
DTEND;TZID=UTC:20240525T123000
DTSTAMP:20260420T112454
CREATED:20240510T025258Z
LAST-MODIFIED:20240510T025258Z
UID:11489-1716633000-1716640200@merbaupulas.nadi.my
SUMMARY:Pertandingan Word Search
DESCRIPTION:
URL:https://merbaupulas.nadi.my/event/pertandingan-word-search-2/
LOCATION:NADI MERBAU PULAS\, NADI MERBAU PULAS
CATEGORIES:DEFAULT
END:VEVENT
BEGIN:VEVENT
DTSTART;TZID=UTC:20240525T103000
DTEND;TZID=UTC:20240525T123000
DTSTAMP:20260420T112454
CREATED:20240510T025258Z
LAST-MODIFIED:20240510T025258Z
UID:11497-1716633000-1716640200@merbaupulas.nadi.my
SUMMARY:Pertandingan Word Search
DESCRIPTION:
URL:https://merbaupulas.nadi.my/event/pertandingan-word-search-3/
LOCATION:NADI MERBAU PULAS\, NADI MERBAU PULAS
CATEGORIES:DEFAULT
END:VEVENT
END:VCALENDAR